<?xml version="1.0" encoding="UTF-8" standalone="no"?>
<metadata xml:lang="en">
<Esri>
<CreaDate>20241219</CreaDate>
<CreaTime>10184700</CreaTime>
<ArcGISFormat>1.0</ArcGISFormat>
<SyncOnce>FALSE</SyncOnce>
<DataProperties>
<lineage>
<Process Date="20241219" Name="" Time="101847" ToolSource="c:\program files\arcgis\pro\Resources\ArcToolbox\toolboxes\Data Management Tools.tbx\CreateMosaicDataset" export="">CreateMosaicDataset C:\Users\borlick\AppData\Roaming\Esri\ArcGISPro\Favorites\arcgis-imagery-default.sde Ortho_2024_Combined PROJCS["NAD_1983_HARN_WISCRS_Rock_County_Feet",GEOGCS["GCS_North_American_1983_HARN",DATUM["D_North_American_1983_HARN",SPHEROID["GRS_1980",6378137.0,298.257222101]],PRIMEM["Greenwich",0.0],UNIT["Degree",0.0174532925199433]],PROJECTION["Transverse_Mercator"],PARAMETER["False_Easting",480000.0],PARAMETER["False_Northing",0.022],PARAMETER["Central_Meridian",-89.07222222222222],PARAMETER["Scale_Factor",1.0000337311],PARAMETER["Latitude_Of_Origin",41.94444444444444],UNIT["Foot_US",0.3048006096012192]] 3 # "Natural color" "Red 630 690;Green 530 570;Blue 440 510"</Process>
<Process Date="20241219" Name="" Time="110638" ToolSource="c:\program files\arcgis\pro\Resources\ArcToolbox\toolboxes\Data Management Tools.tbx\AddRastersToMosaicDataset" export="">AddRastersToMosaicDataset C:\Users\borlick\AppData\Roaming\Esri\ArcGISPro\Favorites\arcgis-imagery-default.sde\ARCGIS.Ortho_2024_Combined "Raster Dataset" \\gis-server\ImageFiles\2024_6_inch\MrSIDs\Tiles\011001.sid;\\gis-server\ImageFiles\2024_6_inch\MrSIDs\Tiles\011002.sid;\\gis-server\ImageFiles\2024_6_inch\MrSIDs\Tiles\011003.sid;\\gis-server\ImageFiles\2024_6_inch\MrSIDs\Tiles\011004.sid;\\gis-server\ImageFiles\2024_6_inch\MrSIDs\Tiles\011005.sid;\\gis-server\ImageFiles\2024_6_inch\MrSIDs\Tiles\011006.sid;\\gis-server\ImageFiles\2024_6_inch\MrSIDs\Tiles\011007.sid;\\gis-server\ImageFiles\2024_6_inch\MrSIDs\Tiles\011008.sid;\\gis-server\ImageFiles\2024_6_inch\MrSIDs\Tiles\011009.sid;\\gis-server\ImageFiles\2024_6_inch\MrSIDs\Tiles\011010.sid;\\gis-server\ImageFiles\2024_6_inch\MrSIDs\Tiles\011011.sid;\\gis-server\ImageFiles\2024_6_inch\MrSIDs\Tiles\011012.sid;\\gis-server\ImageFiles\2024_6_inch\MrSIDs\Tiles\011013.sid;\\gis-server\ImageFiles\2024_6_inch\MrSIDs\Tiles\011014.sid;\\gis-server\ImageFiles\2024_6_inch\MrSIDs\Tiles\011015.sid;\\gis-server\ImageFiles\2024_6_inch\MrSIDs\Tiles\011016.sid;\\gis-server\ImageFiles\2024_6_inch\MrSIDs\Tiles\011017.sid;\\gis-server\ImageFiles\2024_6_inch\MrSIDs\Tiles\011018.sid;\\gis-server\ImageFiles\2024_6_inch\MrSIDs\Tiles\011019.sid;\\gis-server\ImageFiles\2024_6_inch\MrSIDs\Tiles\011020.sid;\\gis-server\ImageFiles\2024_6_inch\MrSIDs\Tiles\011021.sid;\\gis-server\ImageFiles\2024_6_inch\MrSIDs\Tiles\011022.sid;\\gis-server\ImageFiles\2024_6_inch\MrSIDs\Tiles\011023.sid;\\gis-server\ImageFiles\2024_6_inch\MrSIDs\Tiles\011024.sid;\\gis-server\ImageFiles\2024_6_inch\MrSIDs\Tiles\011025.sid;\\gis-server\ImageFiles\2024_6_inch\MrSIDs\Tiles\011026.sid;\\gis-server\ImageFiles\2024_6_inch\MrSIDs\Tiles\011027.sid;\\gis-server\ImageFiles\2024_6_inch\MrSIDs\Tiles\011028.sid;\\gis-server\ImageFiles\2024_6_inch\MrSIDs\Tiles\011029.sid;\\gis-server\ImageFiles\2024_6_inch\MrSIDs\Tiles\011030.sid;\\gis-server\ImageFiles\2024_6_inch\MrSIDs\Tiles\011031.sid;\\gis-server\ImageFiles\2024_6_inch\MrSIDs\Tiles\011032.sid;\\gis-server\ImageFiles\2024_6_inch\MrSIDs\Tiles\011033.sid;\\gis-server\ImageFiles\2024_6_inch\MrSIDs\Tiles\011034.sid;\\gis-server\ImageFiles\2024_6_inch\MrSIDs\Tiles\011035.sid;\\gis-server\ImageFiles\2024_6_inch\MrSIDs\Tiles\011036.sid UPDATE_CELL_SIZES UPDATE_BOUNDARY NO_OVERVIEWS # 0 1500 # # SUBFOLDERS "Allow duplicates" NO_PYRAMIDS NO_STATISTICS NO_THUMBNAILS # NO_FORCE_SPATIAL_REFERENCE NO_STATISTICS # NO_PIXEL_CACHE C:\Users\borlick\AppData\Local\Temp\ArcGISProTemp30216\ARCGIS.Ortho_2024_Combined</Process>
<Process Date="20250108" Time="165046" ToolSource="c:\program files\arcgis\pro\Resources\ArcToolbox\toolboxes\Data Management Tools.tbx\CalculateStatistics">CalculateStatistics C:\Users\borlick\AppData\Roaming\Esri\ArcGISPro\Favorites\arcgis-imagery-default.sde\ARCGIS.Ortho_2024_Combined 1 1 # OVERWRITE "Feature Set"</Process>
</lineage>
<itemProps>
<itemName Sync="TRUE">ARCGIS.Ortho_2024_Combined</itemName>
<itemLocation>
<linkage Sync="TRUE">Server=gis-sql; Service=sde:sqlserver:gis-sql; Database=Imagery; User=Arcgis; Version=dbo.DEFAULT</linkage>
<protocol Sync="TRUE">ArcSDE Connection</protocol>
</itemLocation>
<nativeExtBox>
<westBL Sync="TRUE">399704.915004</westBL>
<eastBL Sync="TRUE">560326.665004</eastBL>
<southBL Sync="TRUE">199130.511806</southBL>
<northBL Sync="TRUE">329572.761806</northBL>
<exTypeCode Sync="TRUE">1</exTypeCode>
</nativeExtBox>
</itemProps>
<coordRef>
<type Sync="TRUE">Projected</type>
<geogcsn Sync="TRUE">GCS_North_American_1983_HARN</geogcsn>
<csUnits Sync="TRUE">Linear Unit: Foot_US (0.304801)</csUnits>
<projcsn Sync="TRUE">NAD_1983_HARN_WISCRS_Rock_County_Feet</projcsn>
<peXml Sync="TRUE">&lt;ProjectedCoordinateSystem xsi:type='typens:ProjectedCoordinateSystem' xmlns:xsi='http://www.w3.org/2001/XMLSchema-instance' xmlns:xs='http://www.w3.org/2001/XMLSchema' xmlns:typens='http://www.esri.com/schemas/ArcGIS/3.3.0'&gt;&lt;WKT&gt;PROJCS[&amp;quot;NAD_1983_HARN_WISCRS_Rock_County_Feet&amp;quot;,GEOGCS[&amp;quot;GCS_North_American_1983_HARN&amp;quot;,DATUM[&amp;quot;D_North_American_1983_HARN&amp;quot;,SPHEROID[&amp;quot;GRS_1980&amp;quot;,6378137.0,298.257222101]],PRIMEM[&amp;quot;Greenwich&amp;quot;,0.0],UNIT[&amp;quot;Degree&amp;quot;,0.0174532925199433]],PROJECTION[&amp;quot;Transverse_Mercator&amp;quot;],PARAMETER[&amp;quot;False_Easting&amp;quot;,480000.0],PARAMETER[&amp;quot;False_Northing&amp;quot;,0.022],PARAMETER[&amp;quot;Central_Meridian&amp;quot;,-89.07222222222222],PARAMETER[&amp;quot;Scale_Factor&amp;quot;,1.0000337311],PARAMETER[&amp;quot;Latitude_Of_Origin&amp;quot;,41.94444444444444],UNIT[&amp;quot;Foot_US&amp;quot;,0.3048006096012192],AUTHORITY[&amp;quot;EPSG&amp;quot;,8128]]&lt;/WKT&gt;&lt;XOrigin&gt;-17969200&lt;/XOrigin&gt;&lt;YOrigin&gt;-48057800&lt;/YOrigin&gt;&lt;XYScale&gt;137236666.75921705&lt;/XYScale&gt;&lt;ZOrigin&gt;-100000&lt;/ZOrigin&gt;&lt;ZScale&gt;10000&lt;/ZScale&gt;&lt;MOrigin&gt;-100000&lt;/MOrigin&gt;&lt;MScale&gt;10000&lt;/MScale&gt;&lt;XYTolerance&gt;0.0032808333333333331&lt;/XYTolerance&gt;&lt;ZTolerance&gt;0.001&lt;/ZTolerance&gt;&lt;MTolerance&gt;0.001&lt;/MTolerance&gt;&lt;HighPrecision&gt;true&lt;/HighPrecision&gt;&lt;WKID&gt;103453&lt;/WKID&gt;&lt;LatestWKID&gt;8128&lt;/LatestWKID&gt;&lt;/ProjectedCoordinateSystem&gt;</peXml>
</coordRef>
<RasterProperties>
<General>
<PixelDepth Sync="TRUE">8</PixelDepth>
<HasColormap Sync="TRUE">FALSE</HasColormap>
<CompressionType Sync="TRUE">None</CompressionType>
<NumBands Sync="TRUE">3</NumBands>
<Format Sync="TRUE">AMD</Format>
<HasPyramids Sync="TRUE">TRUE</HasPyramids>
<SourceType Sync="TRUE">continuous</SourceType>
<PixelType Sync="TRUE">unsigned integer</PixelType>
<NoDataValue Sync="TRUE"/>
</General>
<Properties>
<MaxImageHeight Sync="TRUE">4100</MaxImageHeight>
<MaxImageWidth Sync="TRUE">15000</MaxImageWidth>
<MaxRecordCount Sync="TRUE">1000</MaxRecordCount>
<MaxDownloadImageCount Sync="TRUE">20</MaxDownloadImageCount>
<MaxDownloadSizeLimit Sync="TRUE">2048</MaxDownloadSizeLimit>
<MaxMosaicImageCount Sync="TRUE">20</MaxMosaicImageCount>
<DefaultCompressionQuality Sync="TRUE">75</DefaultCompressionQuality>
<DefaultCompressionTolerance Sync="TRUE">0.01</DefaultCompressionTolerance>
<BlendWidth Sync="TRUE">10</BlendWidth>
<ViewpointSpacingX Sync="TRUE">600</ViewpointSpacingX>
<ViewpointSpacingY Sync="TRUE">300</ViewpointSpacingY>
<AllowedItemMetadata Sync="TRUE">Basic</AllowedItemMetadata>
<DefaultResamplingMethod Sync="TRUE">1</DefaultResamplingMethod>
<AllowedMosaicMethods Sync="TRUE">Seamline,NorthWest,Center,LockRaster,ByAttribute,Nadir,Viewpoint,None</AllowedMosaicMethods>
<AllowedCompressions Sync="TRUE">None,JPEG,LZ77,LERC</AllowedCompressions>
<AllowedMensurationCapabilities Sync="TRUE">None</AllowedMensurationCapabilities>
<AvailableMensurationCapabilities Sync="TRUE">None,Basic,Base-Top Height,Top-Top Shadow Height,Base-Top Shadow Height,3D</AvailableMensurationCapabilities>
<ClipToBoundary Sync="TRUE">-1</ClipToBoundary>
<FootprintMayContainNoData Sync="TRUE">-1</FootprintMayContainNoData>
<CellSizeTolerance Sync="TRUE">0.8</CellSizeTolerance>
<MinimumPixelContribution Sync="TRUE">1</MinimumPixelContribution>
<AvailableMosaicMethods Sync="TRUE">NorthWest,Center,LockRaster,ByAttribute,Nadir,Viewpoint,Seamline,None</AvailableMosaicMethods>
<AvailableCompressionMethods Sync="TRUE">None,JPEG,LZ77,LERC</AvailableCompressionMethods>
<AvailableItemMetadataLevels Sync="TRUE">None,Basic,Full</AvailableItemMetadataLevels>
<BandDefinitionKeyword Sync="TRUE">NaturalColor</BandDefinitionKeyword>
<_docversion_ Sync="TRUE">10</_docversion_>
<AllowedFields Sync="TRUE">Name,MinPS,MaxPS,LowPS,HighPS,Tag,GroupName,ProductName,CenterX,CenterY,ZOrder,Shape.STArea(),Shape.STLength(),SOrder,SLevelPS</AllowedFields>
<MaxCellSize Sync="TRUE">48600</MaxCellSize>
<LowCellSize Sync="TRUE">0.25</LowCellSize>
<HighCellSize Sync="TRUE">4</HighCellSize>
<TimeStamp.RemoveItems Sync="TRUE">45645.9038301968</TimeStamp.RemoveItems>
<TimeStamp.UpdateExtent Sync="TRUE">45645.903874294</TimeStamp.UpdateExtent>
</Properties>
<Functions Sync="TRUE">
<Function Description="Performs on-the-fly mosaic on a raster catalog." Name="Mosaic Function"/>
</Functions>
</RasterProperties>
</DataProperties>
<SyncDate>20250108</SyncDate>
<SyncTime>09311600</SyncTime>
<ModDate>20250108</ModDate>
<ModTime>9383000</ModTime>
<scaleRange>
<minScale>500000</minScale>
<maxScale>5000</maxScale>
</scaleRange>
<ArcGISProfile>ItemDescription</ArcGISProfile>
</Esri>
<mdLang>
<languageCode value="eng"/>
<countryCode Sync="TRUE" value="USA"/>
</mdLang>
<mdChar>
<CharSetCd value="004"/>
</mdChar>
<mdHrLv>
<ScopeCd value="005"/>
</mdHrLv>
<mdHrLvName>dataset</mdHrLvName>
<mdContact>
<rpOrgName>Ayres Associates</rpOrgName>
<rpCntInfo>
<cntPhone>
<voiceNum>(608) 443-1200</voiceNum>
<faxNum>(608) 299-2184</faxNum>
</cntPhone>
<cntAddress>
<delPoint>5201 E. Terrace Dr., Suite 200</delPoint>
<city>Madison</city>
<adminArea>Wisconsin</adminArea>
<postCode>53718</postCode>
<country>US</country>
</cntAddress>
</rpCntInfo>
<role>
<RoleCd value="006"/>
</role>
</mdContact>
<mdDateSt Sync="TRUE">20250108</mdDateSt>
<mdStanName>ArcGIS Metadata</mdStanName>
<mdStanVer>1.0</mdStanVer>
<distInfo>
<distFormat>
<formatName>Raster Dataset</formatName>
</distFormat>
</distInfo>
<dataIdInfo>
<idCitation>
<resTitle>Ortho 2024 Combined</resTitle>
<date>
<createDate>2024-03-11</createDate>
<pubDate>2024-07-30</pubDate>
</date>
<citRespParty>
<rpOrgName>Ayres Associates</rpOrgName>
<rpCntInfo>
<cntPhone>
<voiceNum>(608) 443-1200</voiceNum>
<faxNum>(608) 299-2184</faxNum>
</cntPhone>
<cntAddress>
<delPoint>5201 E. Terrace Dr., Suite 200</delPoint>
<city>Madison</city>
<adminArea>Wisconsin</adminArea>
<postCode>53718</postCode>
<country>US</country>
</cntAddress>
</rpCntInfo>
<role>
<RoleCd value="006"/>
</role>
</citRespParty>
<presForm>
<PresFormCd value="005"/>
</presForm>
</idCitation>
<idAbs>&lt;div style='text-align:Left;'&gt;&lt;div&gt;&lt;div&gt;&lt;p&gt;&lt;span&gt;This mosaic dataset is a combination of two 4-band orthoimagery acquisitions conducted by Ayres Associates as part of WROC.&lt;/span&gt;&lt;/p&gt;&lt;p&gt;&lt;span&gt;The six-inch pixel resolution aerial imagery was collected on March 11th using a Leica Geosystems DMC III sensor mounted in a fixed-wing aircraft. Aerial imagery was collected to support 0.5 foot ground sample distance (GSD) orthoimagery to meet ASPRS Class II horizontal accuracy specifications at 1" = 100' map scale. The 6-inch pixel orthoimagery was produced to meet or exceed a horizontal accuracy of 1.4 feet RMSE according to ASPRS Positional Accuracy Standards for Digital Geospatial Data. Resultant orthoimagery was rectified to a DEM created from LiDAR collected in 2020. Orthoimagery was delivered in PLSS section GeoTiffs, MrSID tiles, and a project-wide MrSID mosaic. The orthoimagery was delivered according to a PLSS section tile schematic. The project area covers approximately 736 square miles.&lt;/span&gt;&lt;/p&gt;&lt;p&gt;&lt;span&gt;The 3-inch pixel resolution aerial imagery along the central corridor was collected on March 15th and 20th using a Microsoft Vexcel UltraCam Eagle M3 sensor mounted in a fixed-wing aircraft. Aerial imagery was collected to support 0.25 foot ground sample distance (GSD) orthoimagery to meet ASPRS Class II horizontal accuracy specifications at 1" = 50' map scale. The 3-inch pixel orthoimagery was produced to meet or exceed a horizontal accuracy of 0.7 foot RMSE according to ASPRS Positional Accuracy Standards for Digital Geospatial Data. Resultant orthoimagery was rectified to a DEM created from existing LiDAR acquired in 2020. Orthoimagery was delivered in PLSS quarter-section GeoTiff and MrSID tiles and a project wide MrSID mosaic. The project area covers approximately 180 square miles.&lt;/span&gt;&lt;/p&gt;&lt;p&gt;&lt;span&gt;Supplemental Information: The Wisconsin Regional Orthoimagery Consortium (WROC) is a multi-entity group of county members and partners led by regional planning commissions (RPCs) and WROC representatives from Ayres Associates. The goal of the consortium is to build and sustain a multi-participant program to acquire digital orthoimagery and elevation data throughout Wisconsin. Orthoimagery was collected for Rock Co in 2024 to provide consistent deliverable products and accuracy standards for each of the participating entities&lt;/span&gt;&lt;/p&gt;&lt;/div&gt;&lt;/div&gt;&lt;/div&gt;</idAbs>
<idPurp>This project established digital, 4-band orthoimagery services for Rock Co, Wisconsin as a part of the Wisconsin Regional Orthoimagery Consortium (WROC).</idPurp>
<idStatus>
<ProgCd value="001"/>
</idStatus>
<idPoC>
<rpIndName>Michelle Schultz</rpIndName>
<rpOrgName>Rock Co</rpOrgName>
<rpPosName>Real Property Lister/LIO</rpPosName>
<rpCntInfo>
<cntPhone>
<voiceNum>608-757-5610</voiceNum>
</cntPhone>
<cntAddress>
<delPoint>51 S. Main St.</delPoint>
<city>Janesville</city>
<adminArea>Wisconsin</adminArea>
<postCode>53545</postCode>
<country>US</country>
</cntAddress>
</rpCntInfo>
<role>
<RoleCd value="007"/>
</role>
</idPoC>
<resMaint>
<maintFreq>
<MaintFreqCd value="011"/>
</maintFreq>
</resMaint>
<placeKeys>
<keyword>Rock Co, Wisconsin</keyword>
</placeKeys>
<themeKeys>
<keyword>Wisconsin Regional Orthoimagery Consortium (WROC)</keyword>
</themeKeys>
<searchKeys>
<keyword>Rock Co</keyword>
<keyword>Wisconsin</keyword>
<keyword>Wisconsin Regional Orthoimagery Consortium (WROC)</keyword>
<keyword>6"</keyword>
<keyword>3"</keyword>
<keyword>six-inch</keyword>
<keyword>3-inch 2024</keyword>
</searchKeys>
<resConst>
<Consts>
<useLimit>&lt;div style='text-align:Left;'&gt;&lt;div&gt;&lt;div&gt;&lt;p&gt;&lt;span&gt;&lt;span&gt;The maps and data provided are for informational and advisory purposes only. Rock County makes no warranty, expressed or implied; including warranties of merchantability and fitness for a particular purpose. Determining fitness of use for this data is the sole responsibility of the user. Rock County Land Information Office disclaims accuracy and advises that if specific and precise accuracy is required, it should be determined by certified maps, surveys, plats, or other official means. Rock County will not be responsible for any damages, which result from third party use of the data and maps herein, or for any use, which ignores this warning. The responsibility for data updates resides with the recipient, not the supplier.&lt;/span&gt;&lt;/span&gt;&lt;/p&gt;&lt;/div&gt;&lt;/div&gt;&lt;/div&gt;</useLimit>
</Consts>
</resConst>
<spatRpType>
<SpatRepTypCd value="002"/>
</spatRpType>
<dataLang>
<languageCode value="eng"/>
<countryCode Sync="TRUE" value="USA"/>
</dataLang>
<dataChar>
<CharSetCd value="004"/>
</dataChar>
<envirDesc>Microsoft Windows 10 Version 10.0 (Build 19045) ; Esri ArcGIS 13.1.2.41833</envirDesc>
<dataExt>
<geoEle>
<GeoBndBox>
<exTypeCode>true</exTypeCode>
<westBL>-89.371616</westBL>
<eastBL>-88.772705</eastBL>
<southBL>42.490461</southBL>
<northBL>42.849074</northBL>
</GeoBndBox>
</geoEle>
</dataExt>
<dataExt>
<geoEle>
<GeoBndBox esriExtentType="search">
<exTypeCode Sync="TRUE">1</exTypeCode>
<westBL Sync="TRUE">-89.371620</westBL>
<eastBL Sync="TRUE">-88.772706</eastBL>
<northBL Sync="TRUE">42.848745</northBL>
<southBL Sync="TRUE">42.490460</southBL>
</GeoBndBox>
</geoEle>
</dataExt>
<idCredit>Rock County Land Records</idCredit>
<tpCat>
<TopicCatCd value="010"/>
</tpCat>
</dataIdInfo>
<mdMaint>
<maintFreq>
<MaintFreqCd value="011"/>
</maintFreq>
</mdMaint>
<dqInfo>
<report type="DQConcConsis">
<measDesc>Images were color corrected to match adjacent flight lines. The resulting imagery was globally tilted in terms of contrast and color to form a radiometrically consistent orthophoto mosaic.</measDesc>
</report>
<report type="DQCompOm">
<measDesc>These data cover the entirety of the 2024 WROC Rock Co program.</measDesc>
</report>
<dataLineage>
<prcStep>
<stepDesc>Ground control consisted of photo identifiable surveyed points. The imagery was collected using a Leica Geosystems DMC III sensor at 14.5 cm GSD. Image quality was verified during the post flight review phase. Factors considered during this review included, but were not limited to, the presence of cloud cover, contrails, light conditions and sun flare. A rigorous Aerotriangulation process was performed and supplemented by the photo ID survey points. The triangulated strips were rectified to a DEM created from existing LiDAR acquired in 2020. The imagery was mosaicked using manual seamlines generation and tone/color balanced to a project-wide consistency. PLSS section RGBN tiles were extracted from the mosaic and each individual tile was reviewed for artifacts and anomalies and adjusted as part of quality control procedures. The images were reviewed for rectification problems such as bridge displacements and seamline issues caused by the underlying digital elevation model. When necessary, local corrections to the imagery were performed to minimize such effects. </stepDesc>
<stepDateTm>2024-04-11T00:00:00</stepDateTm>
</prcStep>
</dataLineage>
</dqInfo>
<spatRepInfo>
<Georect>
<numDims>2</numDims>
<axisDimension type="002">
<dimSize>321240</dimSize>
<dimResol>
<value uom="ftUS">0.500000</value>
</dimResol>
</axisDimension>
<axisDimension type="001">
<dimSize>261124</dimSize>
<dimResol>
<value uom="ftUS">0.500000</value>
</dimResol>
</axisDimension>
<cellGeo>
<CellGeoCd Sync="TRUE" value="002"/>
</cellGeo>
<tranParaAv>true</tranParaAv>
<chkPtAv>false</chkPtAv>
<cornerPts gmlID="ID1QYLXZRFS4F5BQCHYSXPE1G3SKY1YNKG321VHLJW24PSDQHQ5BNG">
<pos>399706.611000 199130.679000</pos>
</cornerPts>
<cornerPts gmlID="IDV4CT2MBXW0EEMTOU3DNXMF5DHLTAVOWCAT0NCZGH4V4JG3PK23I">
<pos>399706.611000 329692.679000</pos>
</cornerPts>
<cornerPts gmlID="IDPHB5QMHL4W4JJF0SYAMA130EKNPLICMCKYY2FHE5VQIZ0FDVZNXM">
<pos>560326.611000 329692.679000</pos>
</cornerPts>
<cornerPts gmlID="IDDPA5A4MGZN4JHPH3X4B4SI0GDHHO5UFYJFWRNQFRQJ4LGEABECUE">
<pos>560326.611000 199130.679000</pos>
</cornerPts>
<centerPt gmlID="IDKNWF5LEXMEJUORUCCCVFYZUPTK22LI20XAQVTCCSJKIC1DUCPXPK">
<pos>480016.611000 264411.679000</pos>
</centerPt>
<ptInPixel>
<PixOrientCd Sync="TRUE" value="001"/>
</ptInPixel>
</Georect>
</spatRepInfo>
<refSysInfo>
<RefSystem>
<refSysID>
<identCode code="7629"/>
<idCodeSpace>EPSG</idCodeSpace>
<identVrsn>8.8(10.4.0)</identVrsn>
<idVersion Sync="TRUE">9.1(10.7.0)</idVersion>
</refSysID>
</RefSystem>
</refSysInfo>
<contInfo>
<ImgDesc>
<contentTyp>
<ContentTypCd Sync="TRUE" value="001"/>
</contentTyp>
<covDim>
<Band>
<dimDescrp>Red</dimDescrp>
<maxVal>255</maxVal>
<minVal>0</minVal>
<valUnit>
<UOM gmlID="ID0NHOL3WFXHWWOACTI4XRSFCWFHKCGBPFWUPFYVC20CR4BC12JU5I" type="length">
<gmlIdent codeSpace="GML_UomSymbol">Unified Code of Units of Measure</gmlIdent>
</UOM>
</valUnit>
<bitsPerVal>8</bitsPerVal>
</Band>
<Band>
<dimDescrp Sync="TRUE">Green</dimDescrp>
<maxVal Sync="TRUE">255.000000</maxVal>
<minVal Sync="TRUE">10.000000</minVal>
<bitsPerVal Sync="TRUE">8</bitsPerVal>
<valUnit>
<UOM type="length"/>
</valUnit>
</Band>
<Band>
<dimDescrp Sync="TRUE">Blue</dimDescrp>
<maxVal Sync="TRUE">253.000000</maxVal>
<minVal Sync="TRUE">19.000000</minVal>
<bitsPerVal Sync="TRUE">8</bitsPerVal>
<valUnit>
<UOM type="length"/>
</valUnit>
</Band>
</covDim>
</ImgDesc>
</contInfo>
</metadata>
