{ "extent": { "ymin": 199130.51180632412, "xmin": 399704.9150038287, "ymax": 329572.76180632412, "xmax": 560326.6650038287, "spatialReference": { "latestWkid": 8128, "wkid": 103453 } }, "blockWidth": 2048, "mosaicOperator": "First", "serviceSourceType": "esriImageServiceSourceTypeMosaicDataset", "hasMultidimensions": false, "maxImageWidth": 15000, "maxRecordCount": 1000, "meanValues": [ 126.34187990767552, 121.62253262575376, 107.40394115579461 ], "hasColormap": false, "compressionType": "None", "defaultCompressionQuality": 75, "maxValues": [ 255, 255, 255 ], "hasHistograms": true, "datasetFormat": "AMD", "maxImageHeight": 4100, "sortField": "", "bandNames": [ "Red", "Green", "Blue" ], "spatialReference": { "latestWkid": 8128, "wkid": 103453 }, "fullExtent": { "ymin": 199130.51180632412, "xmin": 399704.9150038287, "ymax": 329572.76180632412, "xmax": 560326.6650038287, "spatialReference": { "latestWkid": 8128, "wkid": 103453 } }, "bandCount": 3, "rasterFunctionInfos": [ { "help": "", "name": "None", "description": "Make a Raster or Raster Dataset into a Function Raster Dataset." }, { "help": "", "name": "None", "description": "Make a Raster or Raster Dataset into a Function Raster Dataset." } ], "supportsStatistics": true, "sortableFields": "MinPS,MaxPS,LowPS,HighPS,CenterX,CenterY,ZOrder,Shape.STArea(),Shape.STLength(),SOrder,SLevelPS", "minValues": [ 0, 0, 0 ], "allowRasterFunction": true, "allowComputeTiePoints": false, "serviceDataType": "esriImageServiceDataTypeRGB", "supportsAdvancedQueries": true, "maxDownloadSizeLimit": 2048, "currentVersion": 12.1, "sortValue": null, "objectIdField": "OBJECTID", "blockHeight": 256, "initialExtent": { "ymin": 199130.51180632412, "xmin": 399704.9150038287, "ymax": 329572.76180632412, "xmax": 560326.6650038287, "spatialReference": { "latestWkid": 8128, "wkid": 103453 } }, "pixelSizeX": 0.25, "pixelSizeY": 0.25, "defaultMosaicMethod": "Seamline", "name": "Imagery/Ortho_2024_Combined", "allowedMosaicMethods": "Seamline,NorthWest,Center,LockRaster,ByAttribute,Nadir,Viewpoint,None", "maxDownloadImageCount": 20, "fields": [ { "domain": null, "name": "OBJECTID", "alias": "OBJECTID", "type": "esriFieldTypeOID" }, { "domain": null, "name": "Name", "length": 200, "alias": "Name", "type": "esriFieldTypeString" }, { "domain": null, "name": "MinPS", "alias": "MinPS", "type": "esriFieldTypeDouble" }, { "domain": null, "name": "MaxPS", "alias": "MaxPS", "type": "esriFieldTypeDouble" }, { "domain": null, "name": "LowPS", "alias": "LowPS", "type": "esriFieldTypeDouble" }, { "domain": null, "name": "HighPS", "alias": "HighPS", "type": "esriFieldTypeDouble" }, { "domain": { "splitPolicy": "esriSPTDefaultValue", "name": "MosaicCatalogItemCategoryDomain", "description": "Catalog item categories.", "type": "codedValue", "codedValues": [ { "code": 0, "name": "Unknown" }, { "code": 1, "name": "Primary" }, { "code": 2, "name": "Overview" }, { "code": 3, "name": "Unprocessed Overview" }, { "code": 4, "name": "Partial Overview" }, { "code": 253, "name": "Uploaded" }, { "code": 254, "name": "Incomplete" }, { "code": 255, "name": "Custom" } ], "mergePolicy": "esriMPTDefaultValue" }, "name": "Category", "alias": "Category", "type": "esriFieldTypeInteger" }, { "domain": null, "name": "Tag", "length": 100, "alias": "Tag", "type": "esriFieldTypeString" }, { "domain": null, "name": "GroupName", "length": 100, "alias": "GroupName", "type": "esriFieldTypeString" }, { "domain": null, "name": "ProductName", "length": 100, "alias": "ProductName", "type": "esriFieldTypeString" }, { "domain": null, "name": "CenterX", "alias": "CenterX", "type": "esriFieldTypeDouble" }, { "domain": null, "name": "CenterY", "alias": "CenterY", "type": "esriFieldTypeDouble" }, { "domain": null, "name": "ZOrder", "alias": "ZOrder", "type": "esriFieldTypeInteger" }, { "domain": null, "name": "Shape", "alias": "Shape", "type": "esriFieldTypeGeometry" }, { "domain": null, "name": "SOrder", "alias": "SOrder", "type": "esriFieldTypeDouble" }, { "domain": null, "name": "SLevelPS", "alias": "SLevelPS", "type": "esriFieldTypeDouble" }, { "domain": null, "name": "Shape.STArea()", "alias": "Shape.STArea()", "type": "esriFieldTypeDouble" }, { "domain": null, "name": "Shape.STLength()", "alias": "Shape.STLength()", "type": "esriFieldTypeDouble" } ], "allowAnalysis": true, "hasRasterAttributeTable": false, "useStandardizedQueries": true, "description": "", "pixelType": "U8", "meanPixelSize": 0.07620015240030481, "exportTilesAllowed": false, "editFieldsInfo": null, "rasterTypeInfos": [{ "help": "", "name": "Raster Dataset", "description": "Supports all ArcGIS Raster Datasets" }], "defaultResamplingMethod": "Bilinear", "itemAccess": false, "minScale": 0, "serviceProperties": "Seamline<\/MosaicMethod>First<\/MosaicOperator>true<\/SortAscending><\/LockImageID>Name<\/TileOrderField>0<\/TileOrderBase>600.000000<\/AvgImageSpacingX>300.000000<\/AvgImageSpacingY>0.0<\/ViewPointX>0.0<\/ViewPointY>0.0<\/ViewPointDefShiftX>0.0<\/ViewPointDefShiftY>JPEG<\/CompressionMethod>75<\/CompressionQuality>0.010000<\/CompressionTolerance>Bilinear<\/SamplingMethod><\/ImageServiceProperties><\/ImageServer>", "advancedQueryCapabilities": { "supportsStatistics": true, "supportsSqlExpression": true, "supportsOrderBy": true, "useStandardizedQueries": true, "supportsPagination": true, "supportsDistinct": true }, "serviceItemId": "b5fc090e2e96479093aea45b9f2ac8d7", "capabilities": "Image,Metadata,Catalog", "maxScale": 0, "stdvValues": [ 38.111100040481169, 34.736021821475063, 31.400445926910898 ], "allowedFields": "Name,MinPS,MaxPS,LowPS,HighPS,Tag,GroupName,ProductName,CenterX,CenterY,ZOrder,Shape.STArea(),Shape.STLength(),SOrder,SLevelPS", "minPixelSize": 0, "sortAscending": true, "maxMosaicImageCount": 20, "inspectionCapabilities": "", "maxPixelSize": 0, "allowedCompressions": "JPEG,LZ77", "uncompressedSize": 1005689398509, "serviceDescription": "

This mosaic dataset is a combination of two 4-band orthoimagery acquisitions conducted by Ayres Associates as part of WROC.<\/SPAN><\/P>
The six-inch pixel resolution aerial imagery was collected on March 11th using a Leica Geosystems DMC III sensor mounted in a fixed-wing aircraft. Aerial imagery was collected to support 0.5 foot ground sample distance (GSD) orthoimagery to meet ASPRS Class II horizontal accuracy specifications at 1\" = 100' map scale. The 6-inch pixel orthoimagery was produced to meet or exceed a horizontal accuracy of 1.4 feet RMSE according to ASPRS Positional Accuracy Standards for Digital Geospatial Data. Resultant orthoimagery was rectified to a DEM created from LiDAR collected in 2020. Orthoimagery was delivered in PLSS section GeoTiffs, MrSID tiles, and a project-wide MrSID mosaic. The orthoimagery was delivered according to a PLSS section tile schematic. The project area covers approximately 736 square miles.<\/SPAN><\/P>
The 3-inch pixel resolution aerial imagery along the central corridor was collected on March 15th and 20th using a Microsoft Vexcel UltraCam Eagle M3 sensor mounted in a fixed-wing aircraft. Aerial imagery was collected to support 0.25 foot ground sample distance (GSD) orthoimagery to meet ASPRS Class II horizontal accuracy specifications at 1\" = 50' map scale. The 3-inch pixel orthoimagery was produced to meet or exceed a horizontal accuracy of 0.7 foot RMSE according to ASPRS Positional Accuracy Standards for Digital Geospatial Data. Resultant orthoimagery was rectified to a DEM created from existing LiDAR acquired in 2020. Orthoimagery was delivered in PLSS quarter-section GeoTiff and MrSID tiles and a project wide MrSID mosaic. The project area covers approximately 180 square miles.<\/SPAN><\/P>
Supplemental Information: The Wisconsin Regional Orthoimagery Consortium (WROC) is a multi-entity group of county members and partners led by regional planning commissions (RPCs) and WROC representatives from Ayres Associates. The goal of the consortium is to build and sustain a multi-participant program to acquire digital orthoimagery and elevation data throughout Wisconsin. Orthoimagery was collected for Rock Co in 2024 to provide consistent deliverable products and accuracy standards for each of the participating entities<\/SPAN><\/P><\/DIV><\/DIV><\/DIV>", "allowCopy": true, "copyrightText": "Rock County Land Records", "mensurationCapabilities": "None", "ownershipBasedAccessControlForRasters": null }