<?xml version="1.0" encoding="UTF-8" standalone="no"?>
<metadata xml:lang="en">
<Esri>
<CreaDate>20210502</CreaDate>
<CreaTime>14314900</CreaTime>
<ArcGISFormat>1.0</ArcGISFormat>
<ArcGISstyle>FGDC CSDGM Metadata</ArcGISstyle>
<SyncOnce>FALSE</SyncOnce>
<DataProperties>
<lineage>
<Process Date="20210502" Time="143319" ToolSource="c:\program files\arcgis\pro\Resources\ArcToolbox\toolboxes\Data Management Tools.tbx\CopyMultiple">CopyMultiple "'K:\DEPARTMENTS\Planning\Jennifer\MapServices\gis-public Imagery Borlick.sde\imagery.DBO.Pictometry_2008_RockCounty' MosaicDataset;'K:\DEPARTMENTS\Planning\Jennifer\MapServices\gis-public Imagery Borlick.sde\imagery.DBO.Pictometry_2008_RockRiverAvon' MosaicDataset;'K:\DEPARTMENTS\Planning\Jennifer\MapServices\gis-public Imagery Borlick.sde\imagery.DBO.Pictometry_2011_RockCounty' MosaicDataset;'K:\DEPARTMENTS\Planning\Jennifer\MapServices\gis-public Imagery Borlick.sde\imagery.DBO.Pictometry_2015_4in' MosaicDataset;'K:\DEPARTMENTS\Planning\Jennifer\MapServices\gis-public Imagery Borlick.sde\imagery.DBO.Pictometry_2015_9in' MosaicDataset;'K:\DEPARTMENTS\Planning\Jennifer\MapServices\gis-public Imagery Borlick.sde\imagery.DBO.Pictometry_2015_All' MosaicDataset;'K:\DEPARTMENTS\Planning\Jennifer\MapServices\gis-public Imagery Borlick.sde\imagery.DBO.Pictometry_2019' MosaicDataset;'K:\DEPARTMENTS\Planning\Jennifer\MapServices\gis-public Imagery Borlick.sde\imagery.DBO.Pictometry_2020' MosaicDataset" "K:\DEPARTMENTS\Planning\Jennifer\MapServices\gis-sql Imagery ArcGIS.sde" Pictometry_2008_RockCounty;Pictometry_2008_RockRiverAvon;Pictometry_2011_RockCounty;Pictometry_2015_4in;Pictometry_2015_9in;Pictometry_2015_All;Pictometry_2019;Pictometry_2020 "imagery.DBO.Pictometry_2008_RockCounty MosaicDataset Imagery.ARCGIS.Pictometry_2008_RockCounty #;imagery.DBO.Pictometry_2008_RockRiverAvon MosaicDataset Imagery.ARCGIS.Pictometry_2008_RockRiverAvon #;imagery.DBO.Pictometry_2011_RockCounty MosaicDataset Imagery.ARCGIS.Pictometry_2011_RockCounty #;imagery.DBO.Pictometry_2015_4in MosaicDataset Imagery.ARCGIS.Pictometry_2015_4in #;imagery.DBO.Pictometry_2015_9in MosaicDataset Imagery.ARCGIS.Pictometry_2015_9in #;imagery.DBO.Pictometry_2015_All MosaicDataset Imagery.ARCGIS.Pictometry_2015_All #;imagery.DBO.Pictometry_2019 MosaicDataset Imagery.ARCGIS.Pictometry_2019 #;imagery.DBO.Pictometry_2020 MosaicDataset Imagery.ARCGIS.Pictometry_2020 #;imagery.DBO.Pictometry_2008_RockCounty LasDataset Imagery.ARCGIS.Pictometry_2008_RockCounty #;imagery.DBO.Pictometry_2008_RockRiverAvon LasDataset Imagery.ARCGIS.Pictometry_2008_RockRiverAvon #;imagery.DBO.Pictometry_2011_RockCounty LasDataset Imagery.ARCGIS.Pictometry_2011_RockCounty #;imagery.DBO.Pictometry_2015_4in LasDataset Imagery.ARCGIS.Pictometry_2015_4in #;imagery.DBO.Pictometry_2015_9in LasDataset Imagery.ARCGIS.Pictometry_2015_9in #;imagery.DBO.Pictometry_2015_All LasDataset Imagery.ARCGIS.Pictometry_2015_All #;imagery.DBO.Pictometry_2019 LasDataset Imagery.ARCGIS.Pictometry_2019 #;imagery.DBO.Pictometry_2020 LasDataset Imagery.ARCGIS.Pictometry_2020 #"</Process>
</lineage>
<itemProps>
<itemLocation>
<protocol Sync="TRUE">ArcSDE Connection</protocol>
<linkage Sync="TRUE">Server=gis-sql; Service=sde:sqlserver:gis-sql; Database=Imagery; User=ArcGIS; Version=dbo.DEFAULT</linkage>
</itemLocation>
<itemName Sync="TRUE">imagery.DBO.Pictometry_2011_RockCounty</itemName>
<nativeExtBox>
<westBL Sync="TRUE">397973.957426</westBL>
<eastBL Sync="TRUE">562818.622444</eastBL>
<southBL Sync="TRUE">198923.070634</southBL>
<northBL Sync="TRUE">336198.069261</northBL>
<exTypeCode Sync="TRUE">1</exTypeCode>
</nativeExtBox>
<imsContentType export="False"/>
</itemProps>
<coordRef>
<type Sync="TRUE">Projected</type>
<geogcsn Sync="TRUE">GCS_North_American_1983_HARN</geogcsn>
<csUnits Sync="TRUE">Linear Unit: Foot_US (0.304801)</csUnits>
<projcsn Sync="TRUE">NAD_1983_HARN_WISCRS_Rock_County_Feet</projcsn>
<peXml Sync="TRUE">&lt;ProjectedCoordinateSystem xsi:type='typens:ProjectedCoordinateSystem' xmlns:xsi='http://www.w3.org/2001/XMLSchema-instance' xmlns:xs='http://www.w3.org/2001/XMLSchema' xmlns:typens='http://www.esri.com/schemas/ArcGIS/10.1'&gt;&lt;WKT&gt;PROJCS[&amp;quot;NAD_1983_HARN_WISCRS_Rock_County_Feet&amp;quot;,GEOGCS[&amp;quot;GCS_North_American_1983_HARN&amp;quot;,DATUM[&amp;quot;D_North_American_1983_HARN&amp;quot;,SPHEROID[&amp;quot;GRS_1980&amp;quot;,6378137.0,298.257222101]],PRIMEM[&amp;quot;Greenwich&amp;quot;,0.0],UNIT[&amp;quot;Degree&amp;quot;,0.0174532925199433]],PROJECTION[&amp;quot;Transverse_Mercator&amp;quot;],PARAMETER[&amp;quot;False_Easting&amp;quot;,480000.0],PARAMETER[&amp;quot;False_Northing&amp;quot;,0.022],PARAMETER[&amp;quot;Central_Meridian&amp;quot;,-89.07222222222222],PARAMETER[&amp;quot;Scale_Factor&amp;quot;,1.0000337311],PARAMETER[&amp;quot;Latitude_Of_Origin&amp;quot;,41.94444444444444],UNIT[&amp;quot;Foot_US&amp;quot;,0.3048006096012192],AUTHORITY[&amp;quot;ESRI&amp;quot;,103453]]&lt;/WKT&gt;&lt;XOrigin&gt;-17969200&lt;/XOrigin&gt;&lt;YOrigin&gt;-48057800&lt;/YOrigin&gt;&lt;XYScale&gt;137236666.75921705&lt;/XYScale&gt;&lt;ZOrigin&gt;-100000&lt;/ZOrigin&gt;&lt;ZScale&gt;10000&lt;/ZScale&gt;&lt;MOrigin&gt;-100000&lt;/MOrigin&gt;&lt;MScale&gt;10000&lt;/MScale&gt;&lt;XYTolerance&gt;0.0032808333333333331&lt;/XYTolerance&gt;&lt;ZTolerance&gt;0.001&lt;/ZTolerance&gt;&lt;MTolerance&gt;0.001&lt;/MTolerance&gt;&lt;HighPrecision&gt;true&lt;/HighPrecision&gt;&lt;WKID&gt;103453&lt;/WKID&gt;&lt;LatestWKID&gt;103453&lt;/LatestWKID&gt;&lt;/ProjectedCoordinateSystem&gt;</peXml>
</coordRef>
<RasterProperties>
<General>
<PixelDepth Sync="TRUE">8</PixelDepth>
<HasColormap Sync="TRUE">FALSE</HasColormap>
<CompressionType Sync="TRUE">None</CompressionType>
<NumBands Sync="TRUE">3</NumBands>
<Format Sync="TRUE">AMD</Format>
<HasPyramids Sync="TRUE">TRUE</HasPyramids>
<SourceType Sync="TRUE">continuous</SourceType>
<PixelType Sync="TRUE">unsigned integer</PixelType>
<NoDataValue Sync="TRUE"/>
</General>
<Properties>
<MaxImageHeight Sync="TRUE">4100</MaxImageHeight>
<MaxImageWidth Sync="TRUE">15000</MaxImageWidth>
<MaxRecordCount Sync="TRUE">1000</MaxRecordCount>
<MaxDownloadImageCount Sync="TRUE">20</MaxDownloadImageCount>
<MaxDownloadSizeLimit Sync="TRUE">2048</MaxDownloadSizeLimit>
<MaxMosaicImageCount Sync="TRUE">20</MaxMosaicImageCount>
<DefaultCompressionQuality Sync="TRUE">75</DefaultCompressionQuality>
<DefaultCompressionTolerance Sync="TRUE">0.01</DefaultCompressionTolerance>
<BlendWidth Sync="TRUE">10</BlendWidth>
<ViewpointSpacingX Sync="TRUE">600</ViewpointSpacingX>
<ViewpointSpacingY Sync="TRUE">300</ViewpointSpacingY>
<AllowedItemMetadata Sync="TRUE">Basic</AllowedItemMetadata>
<DefaultResamplingMethod Sync="TRUE">1</DefaultResamplingMethod>
<AllowedMosaicMethods Sync="TRUE">NorthWest,Center,LockRaster,ByAttribute,Nadir,Viewpoint,Seamline,None</AllowedMosaicMethods>
<AllowedCompressions Sync="TRUE">None,JPEG,LZ77,LERC</AllowedCompressions>
<AllowedMensurationCapabilities Sync="TRUE">Basic</AllowedMensurationCapabilities>
<AvailableMensurationCapabilities Sync="TRUE">None,Basic,Base-Top Height,Top-Top Shadow Height,Base-Top Shadow Height,3D</AvailableMensurationCapabilities>
<ClipToBoundary Sync="TRUE">-1</ClipToBoundary>
<FootprintMayContainNoData Sync="TRUE">-1</FootprintMayContainNoData>
<CellSizeTolerance Sync="TRUE">0.8</CellSizeTolerance>
<MinimumPixelContribution Sync="TRUE">1</MinimumPixelContribution>
<AvailableMosaicMethods Sync="TRUE">NorthWest,Center,LockRaster,ByAttribute,Nadir,Viewpoint,Seamline,None</AvailableMosaicMethods>
<AvailableCompressionMethods Sync="TRUE">None,JPEG,LZ77,LERC</AvailableCompressionMethods>
<AvailableItemMetadataLevels Sync="TRUE">None,Basic,Full</AvailableItemMetadataLevels>
<ConfigKeyword Sync="TRUE"/>
<BandDefinitionKeyword Sync="TRUE">NONE</BandDefinitionKeyword>
<AllowedFields Sync="TRUE">Name,MinPS,MaxPS,LowPS,HighPS,Tag,GroupName,ProductName,CenterX,CenterY,ZOrder,Shape_Length,Shape_Area</AllowedFields>
<MaxCellSize Sync="TRUE">28799.9997119997</MaxCellSize>
<LowCellSize Sync="TRUE">0.333333329999996</LowCellSize>
<HighCellSize Sync="TRUE">575.999994239993</HighCellSize>
</Properties>
<Functions Sync="TRUE">
<Function Description="Performs on-the-fly mosaic on a raster catalog." Name="Mosaic Function"/>
</Functions>
</RasterProperties>
</DataProperties>
<SyncDate>20140414</SyncDate>
<SyncTime>22325900</SyncTime>
<ModDate>20140414</ModDate>
<ModTime>22325900</ModTime>
<scaleRange>
<minScale>625000</minScale>
<maxScale>5000</maxScale>
</scaleRange>
<ArcGISProfile>FGDC</ArcGISProfile>
<Service Sync="TRUE">Imagery/Pictometry_2011_RockCounty</Service>
<ServiceType Sync="TRUE">image</ServiceType>
</Esri>
<mdChar>
<CharSetCd value="004"/>
</mdChar>
<mdHrLv>
<ScopeCd value="005"/>
</mdHrLv>
<mdContact>
<editorSource>external</editorSource>
<editorDigest>adec6507f2916ebe39a9826c66b2bc13</editorDigest>
<rpIndName>Jennifer Borlick</rpIndName>
<rpOrgName>Rock County Planning and Development</rpOrgName>
<rpPosName>GIS Manager</rpPosName>
<rpCntInfo>
<cntAddress addressType="postal">
<delPoint>51 S Main St</delPoint>
<city>Janesville</city>
<adminArea>WI</adminArea>
<postCode>53545</postCode>
<eMailAdd>borlick@co.rock.wi.us</eMailAdd>
<country>US</country>
</cntAddress>
<cntPhone>
<voiceNum>608-757-5592</voiceNum>
<faxNum>608-757-5586</faxNum>
</cntPhone>
<cntHours>8:00 AM - 12:00 PM, 1:00 - 5:00 PM</cntHours>
<cntOnlineRes>
<linkage>http://www.co.rock.wi.us/geospatial-support-services-fees</linkage>
<orFunct>
<OnFunctCd value="004"/>
</orFunct>
</cntOnlineRes>
</rpCntInfo>
<displayName>Jennifer Borlick</displayName>
<editorSave>True</editorSave>
<displayName>Jennifer Borlick</displayName>
<role>
<RoleCd value="003"/>
</role>
</mdContact>
<dataIdInfo>
<idPurp>Computerized Mapping within Rock County Geographic Information System.</idPurp>
<idCredit>Rock County Planning, Economic, and Community Development Agency</idCredit>
<searchKeys>
<keyword>Rock County</keyword>
<keyword>Rock County Wisconsin</keyword>
<keyword>2011 Aerial Imagery</keyword>
<keyword>Orthophotos</keyword>
<keyword>Pictometry</keyword>
</searchKeys>
<dataChar>
<CharSetCd value="004"/>
</dataChar>
<idPoC>
<rpIndName>Jennifer Borlick</rpIndName>
<rpOrgName>Rock County Planning and Development</rpOrgName>
<rpPosName>GIS Manager</rpPosName>
<rpCntInfo>
<cntAddress addressType="postal">
<delPoint>51 S Main St</delPoint>
<city>Janesville</city>
<adminArea>WI</adminArea>
<postCode>53545</postCode>
<eMailAdd>borlick@co.rock.wi.us</eMailAdd>
<country>US</country>
</cntAddress>
<cntPhone>
<voiceNum>608-757-5592</voiceNum>
<faxNum>608-757-5586</faxNum>
</cntPhone>
<cntHours>8:00 AM - 12:00 PM, 1:00 - 5:00 PM</cntHours>
<cntOnlineRes>
<linkage>http://www.co.rock.wi.us/geospatial-support-services-fees</linkage>
<orFunct>
<OnFunctCd value="004"/>
</orFunct>
</cntOnlineRes>
</rpCntInfo>
<displayName>Jennifer Borlick</displayName>
<role>
<RoleCd value="003"/>
</role>
</idPoC>
<idCitation>
<citRespParty>
<editorSource>external</editorSource>
<editorDigest>adec6507f2916ebe39a9826c66b2bc13</editorDigest>
<rpIndName>Jennifer Borlick</rpIndName>
<rpOrgName>Rock County Planning and Development</rpOrgName>
<rpPosName>GIS Manager</rpPosName>
<rpCntInfo>
<cntAddress addressType="postal">
<delPoint>51 S Main St</delPoint>
<city>Janesville</city>
<adminArea>WI</adminArea>
<postCode>53545</postCode>
<eMailAdd>borlick@co.rock.wi.us</eMailAdd>
<country>US</country>
</cntAddress>
<cntPhone>
<voiceNum>608-757-5592</voiceNum>
<faxNum>608-757-5586</faxNum>
</cntPhone>
<cntHours>8:00 AM - 12:00 PM, 1:00 - 5:00 PM</cntHours>
<cntOnlineRes>
<linkage>http://www.co.rock.wi.us/geospatial-support-services-fees</linkage>
<orFunct>
<OnFunctCd value="004"/>
</orFunct>
</cntOnlineRes>
</rpCntInfo>
<displayName>Jennifer Borlick</displayName>
<editorSave>True</editorSave>
<displayName>Jennifer Borlick</displayName>
<role>
<RoleCd value="006"/>
</role>
</citRespParty>
<resTitle Sync="TRUE">Pictometry_2011_RockCounty</resTitle>
<presForm>
<PresFormCd Sync="TRUE" value="005"/>
</presForm>
</idCitation>
<resConst>
<Consts>
<useLimit>&lt;DIV STYLE="text-align:Left;"&gt;&lt;DIV&gt;&lt;DIV&gt;&lt;P&gt;&lt;SPAN&gt;Fitness of use to be determined by the end user. No distribution to third parties. No alteration.&lt;/SPAN&gt;&lt;/P&gt;&lt;/DIV&gt;&lt;/DIV&gt;&lt;/DIV&gt;</useLimit>
</Consts>
</resConst>
<resMaint>
<maintCont>
<editorSource>external</editorSource>
<editorDigest>adec6507f2916ebe39a9826c66b2bc13</editorDigest>
<rpIndName>Jennifer Borlick</rpIndName>
<rpOrgName>Rock County Planning and Development</rpOrgName>
<rpPosName>GIS Manager</rpPosName>
<rpCntInfo>
<cntAddress addressType="postal">
<delPoint>51 S Main St</delPoint>
<city>Janesville</city>
<adminArea>WI</adminArea>
<postCode>53545</postCode>
<eMailAdd>borlick@co.rock.wi.us</eMailAdd>
<country>US</country>
</cntAddress>
<cntPhone>
<voiceNum>608-757-5592</voiceNum>
<faxNum>608-757-5586</faxNum>
</cntPhone>
<cntHours>8:00 AM - 12:00 PM, 1:00 - 5:00 PM</cntHours>
<cntOnlineRes>
<linkage>http://www.co.rock.wi.us/geospatial-support-services-fees</linkage>
<orFunct>
<OnFunctCd value="004"/>
</orFunct>
</cntOnlineRes>
</rpCntInfo>
<displayName>Jennifer Borlick</displayName>
<editorSave>True</editorSave>
<displayName>Jennifer Borlick</displayName>
<role>
<RoleCd value="003"/>
</role>
</maintCont>
</resMaint>
<idAbs>&lt;DIV STYLE="text-align:Left;"&gt;&lt;DIV&gt;&lt;DIV&gt;&lt;P&gt;&lt;SPAN&gt;4" resolution, color imagery acquired as part of Pictometry flight through the 9-1-1 Communications Center.&lt;/SPAN&gt;&lt;/P&gt;&lt;/DIV&gt;&lt;/DIV&gt;&lt;/DIV&gt;</idAbs>
<dataLang>
<languageCode Sync="TRUE" value="eng"/>
<countryCode Sync="TRUE" value="USA"/>
</dataLang>
<spatRpType>
<SpatRepTypCd Sync="TRUE" value="002"/>
</spatRpType>
<dataExt>
<geoEle>
<GeoBndBox esriExtentType="search">
<exTypeCode Sync="TRUE">1</exTypeCode>
<westBL Sync="TRUE">-89.378164</westBL>
<eastBL Sync="TRUE">-88.763324</eastBL>
<northBL Sync="TRUE">42.866922</northBL>
<southBL Sync="TRUE">42.489867</southBL>
</GeoBndBox>
</geoEle>
</dataExt>
<envirDesc Sync="TRUE">Microsoft Windows Server 2008 Version 6.0 (Build 6002) Service Pack 2; Esri ArcGIS 10.1.1.3143</envirDesc>
</dataIdInfo>
<mdMaint>
<maintFreq>
<MaintFreqCd value="011"/>
</maintFreq>
<maintCont>
<editorSource>external</editorSource>
<editorDigest>adec6507f2916ebe39a9826c66b2bc13</editorDigest>
<rpIndName>Jennifer Borlick</rpIndName>
<rpOrgName>Rock County Planning and Development</rpOrgName>
<rpPosName>GIS Manager</rpPosName>
<rpCntInfo>
<cntAddress addressType="postal">
<delPoint>51 S Main St</delPoint>
<city>Janesville</city>
<adminArea>WI</adminArea>
<postCode>53545</postCode>
<eMailAdd>borlick@co.rock.wi.us</eMailAdd>
<country>US</country>
</cntAddress>
<cntPhone>
<voiceNum>608-757-5592</voiceNum>
<faxNum>608-757-5586</faxNum>
</cntPhone>
<cntHours>8:00 AM - 12:00 PM, 1:00 - 5:00 PM</cntHours>
<cntOnlineRes>
<linkage>http://www.co.rock.wi.us/geospatial-support-services-fees</linkage>
<orFunct>
<OnFunctCd value="004"/>
</orFunct>
</cntOnlineRes>
</rpCntInfo>
<displayName>Jennifer Borlick</displayName>
<editorSave>True</editorSave>
<displayName>Jennifer Borlick</displayName>
<role>
<RoleCd value="003"/>
</role>
</maintCont>
</mdMaint>
<spatRepInfo>
<Georect>
<axisDimension type="002">
<dimSize Sync="TRUE">494534</dimSize>
<dimResol>
<value Sync="TRUE" uom="Foot_US">0.333333</value>
</dimResol>
</axisDimension>
<axisDimension type="001">
<dimSize Sync="TRUE">411825</dimSize>
<dimResol>
<value Sync="TRUE" uom="Foot_US">0.333333</value>
</dimResol>
</axisDimension>
<cellGeo>
<CellGeoCd Sync="TRUE" value="002"/>
</cellGeo>
<numDims Sync="TRUE">2</numDims>
<tranParaAv Sync="TRUE">1</tranParaAv>
<chkPtAv Sync="TRUE">0</chkPtAv>
<cornerPts>
<pos Sync="TRUE">397973.957426 198923.070634</pos>
</cornerPts>
<cornerPts>
<pos Sync="TRUE">397973.957426 336198.069261</pos>
</cornerPts>
<cornerPts>
<pos Sync="TRUE">562818.622444 336198.069261</pos>
</cornerPts>
<cornerPts>
<pos Sync="TRUE">562818.622444 198923.070634</pos>
</cornerPts>
<centerPt>
<pos Sync="TRUE">480396.289935 267560.569947</pos>
</centerPt>
<ptInPixel>
<PixOrientCd Sync="TRUE" value="001"/>
</ptInPixel>
</Georect>
</spatRepInfo>
<contInfo>
<ImgDesc>
<covDim>
<Band>
<valUnit>
<UOM type="length"/>
</valUnit>
<dimDescrp Sync="TRUE">Band_1</dimDescrp>
<maxVal Sync="TRUE">255.000000</maxVal>
<minVal Sync="TRUE">0.000000</minVal>
<bitsPerVal Sync="TRUE">8</bitsPerVal>
</Band>
<Band>
<dimDescrp Sync="TRUE">Band_2</dimDescrp>
<maxVal Sync="TRUE">255.000000</maxVal>
<minVal Sync="TRUE">0.000000</minVal>
<bitsPerVal Sync="TRUE">8</bitsPerVal>
<valUnit>
<UOM type="length"/>
</valUnit>
</Band>
<Band>
<dimDescrp Sync="TRUE">Band_3</dimDescrp>
<maxVal Sync="TRUE">255.000000</maxVal>
<minVal Sync="TRUE">0.000000</minVal>
<bitsPerVal Sync="TRUE">8</bitsPerVal>
<valUnit>
<UOM type="length"/>
</valUnit>
</Band>
</covDim>
<contentTyp>
<ContentTypCd Sync="TRUE" value="001"/>
</contentTyp>
</ImgDesc>
</contInfo>
<mdLang>
<languageCode Sync="TRUE" value="eng"/>
<countryCode Sync="TRUE" value="USA"/>
</mdLang>
<refSysInfo>
<RefSystem>
<refSysID>
<identCode Sync="TRUE" code="103453"/>
<idCodeSpace Sync="TRUE">ESRI</idCodeSpace>
<idVersion Sync="TRUE">10.1.1</idVersion>
</refSysID>
</RefSystem>
</refSysInfo>
<mdDateSt Sync="TRUE">20140414</mdDateSt>
<idinfo>
<citation>
<citeinfo>
<origin>Rock County Planning, Economic, and Community Development Agency</origin>
</citeinfo>
</citation>
<descript>
<abstract>&lt;DIV STYLE="text-align:Left;"&gt;&lt;DIV&gt;&lt;DIV&gt;&lt;P&gt;&lt;SPAN&gt;4" resolution, color imagery acquired as part of Pictometry flight through the 9-1-1 Communications Center.&lt;/SPAN&gt;&lt;/P&gt;&lt;/DIV&gt;&lt;/DIV&gt;&lt;/DIV&gt;</abstract>
</descript>
</idinfo>
<eainfo>
<detailed Name="imagery.DBO.AMD_Pictometry_2011_RockCounty_CAT">
<enttyp>
<enttypl Sync="TRUE">imagery.DBO.AMD_Pictometry_2011_RockCounty_CAT</enttypl>
<enttypt Sync="TRUE">Feature Class</enttypt>
<enttypc Sync="TRUE">11</enttypc>
</enttyp>
<attr>
<attrlabl Sync="TRUE">OBJECTID</attrlabl>
<attalias Sync="TRUE">OBJECTID</attalias>
<attrtype Sync="TRUE">OID</attrtype>
<attwidth Sync="TRUE">4</attwidth>
<atprecis Sync="TRUE">10</atprecis>
<attscale Sync="TRUE">0</attscale>
<attrdef Sync="TRUE">Internal feature number.</attrdef>
<attrdefs Sync="TRUE">Esri</attrdefs>
<attrdomv>
<udom Sync="TRUE">Sequential unique whole numbers that are automatically generated.</udom>
</attrdomv>
</attr>
<attr>
<attrlabl Sync="TRUE">Name</attrlabl>
<attalias Sync="TRUE">Name</attalias>
<attrtype Sync="TRUE">String</attrtype>
<attwidth Sync="TRUE">50</attwidth>
<atprecis Sync="TRUE">0</atprecis>
<attscale Sync="TRUE">0</attscale>
</attr>
<attr>
<attrlabl Sync="TRUE">MinPS</attrlabl>
<attalias Sync="TRUE">MinPS</attalias>
<attrtype Sync="TRUE">Double</attrtype>
<attwidth Sync="TRUE">8</attwidth>
<atprecis Sync="TRUE">38</atprecis>
<attscale Sync="TRUE">8</attscale>
</attr>
<attr>
<attrlabl Sync="TRUE">MaxPS</attrlabl>
<attalias Sync="TRUE">MaxPS</attalias>
<attrtype Sync="TRUE">Double</attrtype>
<attwidth Sync="TRUE">8</attwidth>
<atprecis Sync="TRUE">38</atprecis>
<attscale Sync="TRUE">8</attscale>
</attr>
<attr>
<attrlabl Sync="TRUE">LowPS</attrlabl>
<attalias Sync="TRUE">LowPS</attalias>
<attrtype Sync="TRUE">Double</attrtype>
<attwidth Sync="TRUE">8</attwidth>
<atprecis Sync="TRUE">38</atprecis>
<attscale Sync="TRUE">8</attscale>
</attr>
<attr>
<attrlabl Sync="TRUE">HighPS</attrlabl>
<attalias Sync="TRUE">HighPS</attalias>
<attrtype Sync="TRUE">Double</attrtype>
<attwidth Sync="TRUE">8</attwidth>
<atprecis Sync="TRUE">38</atprecis>
<attscale Sync="TRUE">8</attscale>
</attr>
<attr>
<attrlabl Sync="TRUE">Category</attrlabl>
<attalias Sync="TRUE">Category</attalias>
<attrtype Sync="TRUE">Integer</attrtype>
<attwidth Sync="TRUE">4</attwidth>
<atprecis Sync="TRUE">10</atprecis>
<attscale Sync="TRUE">0</attscale>
</attr>
<attr>
<attrlabl Sync="TRUE">Tag</attrlabl>
<attalias Sync="TRUE">Tag</attalias>
<attrtype Sync="TRUE">String</attrtype>
<attwidth Sync="TRUE">20</attwidth>
<atprecis Sync="TRUE">0</atprecis>
<attscale Sync="TRUE">0</attscale>
</attr>
<attr>
<attrlabl Sync="TRUE">GroupName</attrlabl>
<attalias Sync="TRUE">GroupName</attalias>
<attrtype Sync="TRUE">String</attrtype>
<attwidth Sync="TRUE">50</attwidth>
<atprecis Sync="TRUE">0</atprecis>
<attscale Sync="TRUE">0</attscale>
</attr>
<attr>
<attrlabl Sync="TRUE">ProductName</attrlabl>
<attalias Sync="TRUE">ProductName</attalias>
<attrtype Sync="TRUE">String</attrtype>
<attwidth Sync="TRUE">50</attwidth>
<atprecis Sync="TRUE">0</atprecis>
<attscale Sync="TRUE">0</attscale>
</attr>
<attr>
<attrlabl Sync="TRUE">CenterX</attrlabl>
<attalias Sync="TRUE">CenterX</attalias>
<attrtype Sync="TRUE">Double</attrtype>
<attwidth Sync="TRUE">8</attwidth>
<atprecis Sync="TRUE">38</atprecis>
<attscale Sync="TRUE">8</attscale>
</attr>
<attr>
<attrlabl Sync="TRUE">CenterY</attrlabl>
<attalias Sync="TRUE">CenterY</attalias>
<attrtype Sync="TRUE">Double</attrtype>
<attwidth Sync="TRUE">8</attwidth>
<atprecis Sync="TRUE">38</atprecis>
<attscale Sync="TRUE">8</attscale>
</attr>
<attr>
<attrlabl Sync="TRUE">ZOrder</attrlabl>
<attalias Sync="TRUE">ZOrder</attalias>
<attrtype Sync="TRUE">Integer</attrtype>
<attwidth Sync="TRUE">4</attwidth>
<atprecis Sync="TRUE">10</atprecis>
<attscale Sync="TRUE">0</attscale>
</attr>
<attr>
<attrlabl Sync="TRUE">TypeID</attrlabl>
<attalias Sync="TRUE">Raster Type ID</attalias>
<attrtype Sync="TRUE">Integer</attrtype>
<attwidth Sync="TRUE">4</attwidth>
<atprecis Sync="TRUE">10</atprecis>
<attscale Sync="TRUE">0</attscale>
</attr>
<attr>
<attrlabl Sync="TRUE">ItemTS</attrlabl>
<attalias Sync="TRUE">ItemTS</attalias>
<attrtype Sync="TRUE">Double</attrtype>
<attwidth Sync="TRUE">8</attwidth>
<atprecis Sync="TRUE">38</atprecis>
<attscale Sync="TRUE">8</attscale>
</attr>
<attr>
<attrlabl Sync="TRUE">UriHash</attrlabl>
<attalias Sync="TRUE">UriHash</attalias>
<attrtype Sync="TRUE">String</attrtype>
<attwidth Sync="TRUE">50</attwidth>
<atprecis Sync="TRUE">0</atprecis>
<attscale Sync="TRUE">0</attscale>
</attr>
<attr>
<attrlabl Sync="TRUE">Uri</attrlabl>
<attalias Sync="TRUE">Uri</attalias>
<attrtype Sync="TRUE">Blob</attrtype>
<attwidth Sync="TRUE">0</attwidth>
<atprecis Sync="TRUE">0</atprecis>
<attscale Sync="TRUE">0</attscale>
</attr>
<attr>
<attrlabl Sync="TRUE">Shape</attrlabl>
<attalias Sync="TRUE">Shape</attalias>
<attrtype Sync="TRUE">Geometry</attrtype>
<attwidth Sync="TRUE">8</attwidth>
<atprecis Sync="TRUE">0</atprecis>
<attscale Sync="TRUE">0</attscale>
<attrdef Sync="TRUE">Feature geometry.</attrdef>
<attrdefs Sync="TRUE">Esri</attrdefs>
<attrdomv>
<udom Sync="TRUE">Coordinates defining the features.</udom>
</attrdomv>
</attr>
<attr>
<attrlabl Sync="TRUE">Raster</attrlabl>
<attalias Sync="TRUE">Raster</attalias>
<attrtype Sync="TRUE">Raster</attrtype>
<attwidth Sync="TRUE">8</attwidth>
<atprecis Sync="TRUE">0</atprecis>
<attscale Sync="TRUE">0</attscale>
</attr>
<attr>
<attrlabl Sync="TRUE">Shape.area</attrlabl>
<attalias Sync="TRUE">Shape.area</attalias>
<attrtype Sync="TRUE">Double</attrtype>
<attwidth Sync="TRUE">0</attwidth>
<atprecis Sync="TRUE">0</atprecis>
<attscale Sync="TRUE">0</attscale>
</attr>
<attr>
<attrlabl Sync="TRUE">Shape.len</attrlabl>
<attalias Sync="TRUE">Shape.len</attalias>
<attrtype Sync="TRUE">Double</attrtype>
<attwidth Sync="TRUE">0</attwidth>
