<?xml version="1.0" encoding="UTF-8" standalone="no"?>
<metadata xml:lang="en">
<Esri>
<CreaDate>20210502</CreaDate>
<CreaTime>14320400</CreaTime>
<ArcGISFormat>1.0</ArcGISFormat>
<ArcGISstyle>FGDC CSDGM Metadata</ArcGISstyle>
<SyncOnce>FALSE</SyncOnce>
<DataProperties>
<lineage>
<Process Date="20150604" Name="" Time="134408" ToolSource="c:\program files (x86)\arcgis\desktop10.3\ArcToolbox\Toolboxes\Data Management Tools.tbx\CreateMosaicDataset" export="">CreateMosaicDataset "Database Connections\Puma Imagery.sde" Pictometry_2015_4in "PROJCS['NAD_1983_HARN_WISCRS_Rock_County_Feet',GEOGCS['GCS_North_American_1983_HARN',DATUM['D_North_American_1983_HARN',SPHEROID['GRS_1980',6378137.0,298.257222101]],PRIMEM['Greenwich',0.0],UNIT['Degree',0.0174532925199433]],PROJECTION['Transverse_Mercator'],PARAMETER['False_Easting',480000.0],PARAMETER['False_Northing',0.022],PARAMETER['Central_Meridian',-89.07222222222222],PARAMETER['Scale_Factor',1.0000337311],PARAMETER['Latitude_Of_Origin',41.94444444444444],UNIT['Foot_US',0.3048006096012192]];-17969200 -48057800 3048.00609601219;-100000 10000;-100000 10000;3.28083333333333E-03;0.001;0.001;IsHighPrecision" # # NONE #</Process>
<Process Date="20150604" Name="" Time="134501" ToolSource="c:\program files (x86)\arcgis\desktop10.3\ArcToolbox\Toolboxes\Data Management Tools.tbx\AddRastersToMosaicDataset" export="">AddRastersToMosaicDataset "Database Connections\Puma Imagery.sde\imagery.DBO.Pictometry_2015_4in" "Raster Dataset" '\\puma\ImageFiles\WIROCK15-LIB\Area Wide Mosaics\WIROCK15-SID-COMBINED-4INCH' UPDATE_CELL_SIZES UPDATE_BOUNDARY NO_OVERVIEWS # 0 1500 "PROJCS['NAD_1983_HARN_WISCRS_Rock_County_Feet',GEOGCS['GCS_North_American_1983_HARN',DATUM['D_North_American_1983_HARN',SPHEROID['GRS_1980',6378137.0,298.257222101]],PRIMEM['Greenwich',0.0],UNIT['Degree',0.0174532925199433]],PROJECTION['Transverse_Mercator'],PARAMETER['False_Easting',480000.0],PARAMETER['False_Northing',0.022],PARAMETER['Central_Meridian',-89.07222222222222],PARAMETER['Scale_Factor',1.0000337311],PARAMETER['Latitude_Of_Origin',41.94444444444444],UNIT['Foot_US',0.3048006096012192]];-17969200 -48057800 3048.00609601219;-100000 10000;-100000 10000;3.28083333333333E-03;0.001;0.001;IsHighPrecision" # SUBFOLDERS ALLOW_DUPLICATES NO_PYRAMIDS NO_STATISTICS NO_THUMBNAILS # NO_FORCE_SPATIAL_REFERENCE</Process>
<Process Date="20210502" Time="143321" ToolSource="c:\program files\arcgis\pro\Resources\ArcToolbox\toolboxes\Data Management Tools.tbx\CopyMultiple">CopyMultiple "'K:\DEPARTMENTS\Planning\Jennifer\MapServices\gis-public Imagery Borlick.sde\imagery.DBO.Pictometry_2008_RockCounty' MosaicDataset;'K:\DEPARTMENTS\Planning\Jennifer\MapServices\gis-public Imagery Borlick.sde\imagery.DBO.Pictometry_2008_RockRiverAvon' MosaicDataset;'K:\DEPARTMENTS\Planning\Jennifer\MapServices\gis-public Imagery Borlick.sde\imagery.DBO.Pictometry_2011_RockCounty' MosaicDataset;'K:\DEPARTMENTS\Planning\Jennifer\MapServices\gis-public Imagery Borlick.sde\imagery.DBO.Pictometry_2015_4in' MosaicDataset;'K:\DEPARTMENTS\Planning\Jennifer\MapServices\gis-public Imagery Borlick.sde\imagery.DBO.Pictometry_2015_9in' MosaicDataset;'K:\DEPARTMENTS\Planning\Jennifer\MapServices\gis-public Imagery Borlick.sde\imagery.DBO.Pictometry_2015_All' MosaicDataset;'K:\DEPARTMENTS\Planning\Jennifer\MapServices\gis-public Imagery Borlick.sde\imagery.DBO.Pictometry_2019' MosaicDataset;'K:\DEPARTMENTS\Planning\Jennifer\MapServices\gis-public Imagery Borlick.sde\imagery.DBO.Pictometry_2020' MosaicDataset" "K:\DEPARTMENTS\Planning\Jennifer\MapServices\gis-sql Imagery ArcGIS.sde" Pictometry_2008_RockCounty;Pictometry_2008_RockRiverAvon;Pictometry_2011_RockCounty;Pictometry_2015_4in;Pictometry_2015_9in;Pictometry_2015_All;Pictometry_2019;Pictometry_2020 "imagery.DBO.Pictometry_2008_RockCounty MosaicDataset Imagery.ARCGIS.Pictometry_2008_RockCounty #;imagery.DBO.Pictometry_2008_RockRiverAvon MosaicDataset Imagery.ARCGIS.Pictometry_2008_RockRiverAvon #;imagery.DBO.Pictometry_2011_RockCounty MosaicDataset Imagery.ARCGIS.Pictometry_2011_RockCounty #;imagery.DBO.Pictometry_2015_4in MosaicDataset Imagery.ARCGIS.Pictometry_2015_4in #;imagery.DBO.Pictometry_2015_9in MosaicDataset Imagery.ARCGIS.Pictometry_2015_9in #;imagery.DBO.Pictometry_2015_All MosaicDataset Imagery.ARCGIS.Pictometry_2015_All #;imagery.DBO.Pictometry_2019 MosaicDataset Imagery.ARCGIS.Pictometry_2019 #;imagery.DBO.Pictometry_2020 MosaicDataset Imagery.ARCGIS.Pictometry_2020 #;imagery.DBO.Pictometry_2008_RockCounty LasDataset Imagery.ARCGIS.Pictometry_2008_RockCounty #;imagery.DBO.Pictometry_2008_RockRiverAvon LasDataset Imagery.ARCGIS.Pictometry_2008_RockRiverAvon #;imagery.DBO.Pictometry_2011_RockCounty LasDataset Imagery.ARCGIS.Pictometry_2011_RockCounty #;imagery.DBO.Pictometry_2015_4in LasDataset Imagery.ARCGIS.Pictometry_2015_4in #;imagery.DBO.Pictometry_2015_9in LasDataset Imagery.ARCGIS.Pictometry_2015_9in #;imagery.DBO.Pictometry_2015_All LasDataset Imagery.ARCGIS.Pictometry_2015_All #;imagery.DBO.Pictometry_2019 LasDataset Imagery.ARCGIS.Pictometry_2019 #;imagery.DBO.Pictometry_2020 LasDataset Imagery.ARCGIS.Pictometry_2020 #"</Process>
</lineage>
<itemProps>
<itemName Sync="TRUE">imagery.DBO.Pictometry_2015_4in</itemName>
<itemLocation>
<linkage Sync="TRUE">Server=gis-sql; Service=sde:sqlserver:gis-sql; Database=Imagery; User=ArcGIS; Version=dbo.DEFAULT</linkage>
<protocol Sync="TRUE">ArcSDE Connection</protocol>
</itemLocation>
<nativeExtBox>
<westBL Sync="TRUE">408923.290135</westBL>
<eastBL Sync="TRUE">541505.955476</eastBL>
<southBL Sync="TRUE">198923.070639</southBL>
<northBL Sync="TRUE">336198.069267</northBL>
<exTypeCode Sync="TRUE">1</exTypeCode>
</nativeExtBox>
<imsContentType export="False"/>
</itemProps>
<coordRef>
<type Sync="TRUE">Projected</type>
<geogcsn Sync="TRUE">GCS_North_American_1983_HARN</geogcsn>
<csUnits Sync="TRUE">Linear Unit: Foot_US (0.304801)</csUnits>
<projcsn Sync="TRUE">NAD_1983_HARN_WISCRS_Rock_County_Feet</projcsn>
<peXml Sync="TRUE">&lt;ProjectedCoordinateSystem xsi:type='typens:ProjectedCoordinateSystem' xmlns:xsi='http://www.w3.org/2001/XMLSchema-instance' xmlns:xs='http://www.w3.org/2001/XMLSchema' xmlns:typens='http://www.esri.com/schemas/ArcGIS/10.1'&gt;&lt;WKT&gt;PROJCS[&amp;quot;NAD_1983_HARN_WISCRS_Rock_County_Feet&amp;quot;,GEOGCS[&amp;quot;GCS_North_American_1983_HARN&amp;quot;,DATUM[&amp;quot;D_North_American_1983_HARN&amp;quot;,SPHEROID[&amp;quot;GRS_1980&amp;quot;,6378137.0,298.257222101]],PRIMEM[&amp;quot;Greenwich&amp;quot;,0.0],UNIT[&amp;quot;Degree&amp;quot;,0.0174532925199433]],PROJECTION[&amp;quot;Transverse_Mercator&amp;quot;],PARAMETER[&amp;quot;False_Easting&amp;quot;,480000.0],PARAMETER[&amp;quot;False_Northing&amp;quot;,0.022],PARAMETER[&amp;quot;Central_Meridian&amp;quot;,-89.07222222222222],PARAMETER[&amp;quot;Scale_Factor&amp;quot;,1.0000337311],PARAMETER[&amp;quot;Latitude_Of_Origin&amp;quot;,41.94444444444444],UNIT[&amp;quot;Foot_US&amp;quot;,0.3048006096012192],AUTHORITY[&amp;quot;ESRI&amp;quot;,103453]]&lt;/WKT&gt;&lt;XOrigin&gt;-17969200&lt;/XOrigin&gt;&lt;YOrigin&gt;-48057800&lt;/YOrigin&gt;&lt;XYScale&gt;137236666.75921705&lt;/XYScale&gt;&lt;ZOrigin&gt;-100000&lt;/ZOrigin&gt;&lt;ZScale&gt;10000&lt;/ZScale&gt;&lt;MOrigin&gt;-100000&lt;/MOrigin&gt;&lt;MScale&gt;10000&lt;/MScale&gt;&lt;XYTolerance&gt;0.0032808333333333331&lt;/XYTolerance&gt;&lt;ZTolerance&gt;0.001&lt;/ZTolerance&gt;&lt;MTolerance&gt;0.001&lt;/MTolerance&gt;&lt;HighPrecision&gt;true&lt;/HighPrecision&gt;&lt;WKID&gt;103453&lt;/WKID&gt;&lt;LatestWKID&gt;103453&lt;/LatestWKID&gt;&lt;/ProjectedCoordinateSystem&gt;</peXml>
</coordRef>
<RasterProperties>
<General>
<PixelDepth Sync="TRUE">8</PixelDepth>
<HasColormap Sync="TRUE">FALSE</HasColormap>
<CompressionType Sync="TRUE">None</CompressionType>
<NumBands Sync="TRUE">3</NumBands>
<Format Sync="TRUE">AMD</Format>
<HasPyramids Sync="TRUE">TRUE</HasPyramids>
<SourceType Sync="TRUE">continuous</SourceType>
<PixelType Sync="TRUE">unsigned integer</PixelType>
<NoDataValue Sync="TRUE"/>
</General>
<Properties>
<MaxImageHeight Sync="TRUE">4100</MaxImageHeight>
<MaxImageWidth Sync="TRUE">15000</MaxImageWidth>
<MaxRecordCount Sync="TRUE">1000</MaxRecordCount>
<MaxDownloadImageCount Sync="TRUE">20</MaxDownloadImageCount>
<MaxDownloadSizeLimit Sync="TRUE">2048</MaxDownloadSizeLimit>
<MaxMosaicImageCount Sync="TRUE">20</MaxMosaicImageCount>
<DefaultCompressionQuality Sync="TRUE">75</DefaultCompressionQuality>
<DefaultCompressionTolerance Sync="TRUE">0.01</DefaultCompressionTolerance>
<BlendWidth Sync="TRUE">10</BlendWidth>
<ViewpointSpacingX Sync="TRUE">600</ViewpointSpacingX>
<ViewpointSpacingY Sync="TRUE">300</ViewpointSpacingY>
<AllowedItemMetadata Sync="TRUE">Basic</AllowedItemMetadata>
<DefaultResamplingMethod Sync="TRUE">1</DefaultResamplingMethod>
<AllowedMosaicMethods Sync="TRUE">NorthWest,Center,LockRaster,ByAttribute,Nadir,Viewpoint,Seamline,None</AllowedMosaicMethods>
<AllowedCompressions Sync="TRUE">None,JPEG,LZ77,LERC</AllowedCompressions>
<AllowedMensurationCapabilities Sync="TRUE">None</AllowedMensurationCapabilities>
<AvailableMensurationCapabilities Sync="TRUE">None,Basic,Base-Top Height,Top-Top Shadow Height,Base-Top Shadow Height,3D</AvailableMensurationCapabilities>
<ClipToBoundary Sync="TRUE">-1</ClipToBoundary>
<FootprintMayContainNoData Sync="TRUE">-1</FootprintMayContainNoData>
<CellSizeTolerance Sync="TRUE">0.8</CellSizeTolerance>
<MinimumPixelContribution Sync="TRUE">1</MinimumPixelContribution>
<AvailableMosaicMethods Sync="TRUE">NorthWest,Center,LockRaster,ByAttribute,Nadir,Viewpoint,Seamline,None</AvailableMosaicMethods>
<AvailableCompressionMethods Sync="TRUE">None,JPEG,LZ77,LERC</AvailableCompressionMethods>
<AvailableItemMetadataLevels Sync="TRUE">None,Basic,Full</AvailableItemMetadataLevels>
<ConfigKeyword Sync="TRUE"/>
<BandDefinitionKeyword Sync="TRUE">NONE</BandDefinitionKeyword>
<AllowedFields Sync="TRUE">Name,MinPS,MaxPS,LowPS,HighPS,Tag,GroupName,ProductName,CenterX,CenterY,ZOrder,Shape.area,Shape.len</AllowedFields>
<MaxCellSize Sync="TRUE">43199.999568</MaxCellSize>
<LowCellSize Sync="TRUE">0.33333333</LowCellSize>
<HighCellSize Sync="TRUE">863.99999136</HighCellSize>
<TimeStamp.RemoveItems Sync="TRUE">42160.7935235301</TimeStamp.RemoveItems>
<TimeStamp.UpdateExtent Sync="TRUE">42160.7935298495</TimeStamp.UpdateExtent>
</Properties>
<Functions Sync="TRUE">
<Function Description="Performs on-the-fly mosaic on a raster catalog." Name="Mosaic Function"/>
</Functions>
</RasterProperties>
</DataProperties>
<SyncDate>20190324</SyncDate>
<SyncTime>23445100</SyncTime>
<ModDate>20190324</ModDate>
<ModTime>23445100</ModTime>
<scaleRange>
<minScale>150000000</minScale>
<maxScale>5000</maxScale>
</scaleRange>
<ArcGISProfile>FGDC</ArcGISProfile>
</Esri>
<mdChar>
<CharSetCd value="004"/>
</mdChar>
<mdHrLv>
<ScopeCd value="005"/>
</mdHrLv>
<mdContact>
<editorSource>external</editorSource>
<editorDigest>adec6507f2916ebe39a9826c66b2bc13</editorDigest>
<rpIndName>Jennifer Borlick</rpIndName>
<rpOrgName>Rock County Planning and Development</rpOrgName>
<rpPosName>GIS Manager</rpPosName>
<rpCntInfo>
<cntAddress addressType="postal">
<delPoint>51 S Main St</delPoint>
<city>Janesville</city>
<adminArea>WI</adminArea>
<postCode>53545</postCode>
<eMailAdd>borlick@co.rock.wi.us</eMailAdd>
<country>US</country>
</cntAddress>
<cntPhone>
<voiceNum>608-757-5592</voiceNum>
<faxNum>608-757-5586</faxNum>
</cntPhone>
<cntHours>8:00 AM - 12:00 PM, 1:00 - 5:00 PM</cntHours>
<cntOnlineRes>
<linkage>http://www.co.rock.wi.us/geospatial-support-services-fees</linkage>
<orFunct>
<OnFunctCd value="004"/>
</orFunct>
</cntOnlineRes>
</rpCntInfo>
<displayName>Jennifer Borlick</displayName>
<editorSave>True</editorSave>
<displayName>Jennifer Borlick</displayName>
<role>
<RoleCd value="003"/>
</role>
</mdContact>
<dataIdInfo>
<idPurp>Pictometry orthoimagery from the spring of 2015. 4" resolution over cities and villages.</idPurp>
<idCredit>Rock County 9-1-1 Communications</idCredit>
<searchKeys>
<keyword>Rock County</keyword>
<keyword>Rock County Wisconsin</keyword>
<keyword>Pictometry</keyword>
<keyword>2015</keyword>
</searchKeys>
<dataChar>
<CharSetCd value="004"/>
</dataChar>
<idPoC>
<rpIndName>Jennifer Borlick</rpIndName>
<rpOrgName>Rock County Planning and Development</rpOrgName>
<rpPosName>GIS Manager</rpPosName>
<rpCntInfo>
<cntAddress addressType="postal">
<delPoint>51 S Main St</delPoint>
<city>Janesville</city>
<adminArea>WI</adminArea>
<postCode>53545</postCode>
<eMailAdd>borlick@co.rock.wi.us</eMailAdd>
<country>US</country>
</cntAddress>
<cntPhone>
<voiceNum>608-757-5592</voiceNum>
<faxNum>608-757-5586</faxNum>
</cntPhone>
<cntHours>8:00 AM - 12:00 PM, 1:00 - 5:00 PM</cntHours>
<cntOnlineRes>
<linkage>http://www.co.rock.wi.us/geospatial-support-services-fees</linkage>
<orFunct>
<OnFunctCd value="004"/>
</orFunct>
</cntOnlineRes>
</rpCntInfo>
<displayName>Jennifer Borlick</displayName>
<role>
<RoleCd value="003"/>
</role>
</idPoC>
<idCitation>
<citRespParty>
<editorSource>external</editorSource>
<editorDigest>adec6507f2916ebe39a9826c66b2bc13</editorDigest>
<rpIndName>Jennifer Borlick</rpIndName>
<rpOrgName>Rock County Planning and Development</rpOrgName>
<rpPosName>GIS Manager</rpPosName>
<rpCntInfo>
<cntAddress addressType="postal">
<delPoint>51 S Main St</delPoint>
<city>Janesville</city>
<adminArea>WI</adminArea>
<postCode>53545</postCode>
<eMailAdd>borlick@co.rock.wi.us</eMailAdd>
<country>US</country>
</cntAddress>
<cntPhone>
<voiceNum>608-757-5592</voiceNum>
<faxNum>608-757-5586</faxNum>
</cntPhone>
<cntHours>8:00 AM - 12:00 PM, 1:00 - 5:00 PM</cntHours>
<cntOnlineRes>
<linkage>http://www.co.rock.wi.us/geospatial-support-services-fees</linkage>
<orFunct>
<OnFunctCd value="004"/>
</orFunct>
</cntOnlineRes>
</rpCntInfo>
<displayName>Jennifer Borlick</displayName>
<editorSave>True</editorSave>
<displayName>Jennifer Borlick</displayName>
<role>
<RoleCd value="006"/>
</role>
</citRespParty>
<resTitle Sync="FALSE">Pictometry_2015_4in</resTitle>
<presForm>
<PresFormCd Sync="TRUE" value="005"/>
</presForm>
</idCitation>
<resConst>
<Consts>
<useLimit>&lt;DIV STYLE="text-align:Left;"&gt;&lt;DIV&gt;&lt;DIV&gt;&lt;P&gt;&lt;SPAN&gt;Fitness of use to be determined by the end user. No distribution to third parties. No alteration.&lt;/SPAN&gt;&lt;/P&gt;&lt;/DIV&gt;&lt;/DIV&gt;&lt;/DIV&gt;</useLimit>
</Consts>
</resConst>
<resMaint>
<maintCont>
<editorSource>external</editorSource>
<editorDigest>adec6507f2916ebe39a9826c66b2bc13</editorDigest>
<rpIndName>Jennifer Borlick</rpIndName>
<rpOrgName>Rock County Planning and Development</rpOrgName>
<rpPosName>GIS Manager</rpPosName>
<rpCntInfo>
<cntAddress addressType="postal">
<delPoint>51 S Main St</delPoint>
<city>Janesville</city>
<adminArea>WI</adminArea>
<postCode>53545</postCode>
<eMailAdd>borlick@co.rock.wi.us</eMailAdd>
<country>US</country>
</cntAddress>
<cntPhone>
<voiceNum>608-757-5592</voiceNum>
<faxNum>608-757-5586</faxNum>
</cntPhone>
<cntHours>8:00 AM - 12:00 PM, 1:00 - 5:00 PM</cntHours>
<cntOnlineRes>
<linkage>http://www.co.rock.wi.us/geospatial-support-services-fees</linkage>
<orFunct>
<OnFunctCd value="004"/>
</orFunct>
</cntOnlineRes>
</rpCntInfo>
<displayName>Jennifer Borlick</displayName>
<editorSave>True</editorSave>
<displayName>Jennifer Borlick</displayName>
<role>
<RoleCd value="003"/>
</role>
</maintCont>
</resMaint>
<idAbs>&lt;DIV STYLE="text-align:Left;"&gt;&lt;DIV&gt;&lt;DIV&gt;&lt;P&gt;&lt;SPAN&gt;Pictometry orthoimagery from the spring of 2015. 4" resolution over cities and villages.&lt;/SPAN&gt;&lt;/P&gt;&lt;/DIV&gt;&lt;/DIV&gt;&lt;/DIV&gt;</idAbs>
<envirDesc Sync="TRUE">Microsoft Windows Server 2008 Version 6.0 (Build 6002) Service Pack 2; Esri ArcGIS 10.1.1.3143</envirDesc>
<dataLang>
<languageCode Sync="TRUE" value="eng"/>
<countryCode Sync="TRUE" value="USA"/>
</dataLang>
<spatRpType>
<SpatRepTypCd Sync="TRUE" value="002"/>
</spatRpType>
<dataExt>
<geoEle>
<GeoBndBox esriExtentType="search">
<exTypeCode Sync="TRUE">1</exTypeCode>
<westBL Sync="TRUE">-89.337326</westBL>
<eastBL Sync="TRUE">-88.842816</eastBL>
<northBL Sync="TRUE">42.866922</northBL>
<southBL Sync="TRUE">42.489975</southBL>
</GeoBndBox>
</geoEle>
</dataExt>
</dataIdInfo>
<mdMaint>
<maintFreq>
<MaintFreqCd value="011"/>
</maintFreq>
<maintCont>
<editorSource>external</editorSource>
<editorDigest>adec6507f2916ebe39a9826c66b2bc13</editorDigest>
<rpIndName>Jennifer Borlick</rpIndName>
<rpOrgName>Rock County Planning and Development</rpOrgName>
<rpPosName>GIS Manager</rpPosName>
<rpCntInfo>
<cntAddress addressType="postal">
<delPoint>51 S Main St</delPoint>
<city>Janesville</city>
<adminArea>WI</adminArea>
<postCode>53545</postCode>
<eMailAdd>borlick@co.rock.wi.us</eMailAdd>
<country>US</country>
</cntAddress>
<cntPhone>
<voiceNum>608-757-5592</voiceNum>
<faxNum>608-757-5586</faxNum>
</cntPhone>
<cntHours>8:00 AM - 12:00 PM, 1:00 - 5:00 PM</cntHours>
<cntOnlineRes>
<linkage>http://www.co.rock.wi.us/geospatial-support-services-fees</linkage>
<orFunct>
<OnFunctCd value="004"/>
</orFunct>
</cntOnlineRes>
</rpCntInfo>
<displayName>Jennifer Borlick</displayName>
<editorSave>True</editorSave>
<displayName>Jennifer Borlick</displayName>
<role>
<RoleCd value="003"/>
</role>
</maintCont>
</mdMaint>
<spatRepInfo>
<Georect>
<axisDimension type="002">
<dimSize Sync="TRUE">397748</dimSize>
<dimResol>
<value Sync="TRUE" uom="Foot_US">0.333333</value>
</dimResol>
</axisDimension>
<axisDimension type="001">
<dimSize Sync="TRUE">411825</dimSize>
<dimResol>
<value Sync="TRUE" uom="Foot_US">0.333333</value>
</dimResol>
</axisDimension>
<cellGeo>
<CellGeoCd Sync="TRUE" value="002"/>
</cellGeo>
<numDims Sync="TRUE">2</numDims>
<tranParaAv Sync="TRUE">1</tranParaAv>
<chkPtAv Sync="TRUE">0</chkPtAv>
<cornerPts>
<pos Sync="TRUE">408923.290135 198923.070639</pos>
</cornerPts>
<cornerPts>
<pos Sync="TRUE">408923.290135 336198.069267</pos>
</cornerPts>
<cornerPts>
<pos Sync="TRUE">541505.955476 336198.069267</pos>
</cornerPts>
<cornerPts>
<pos Sync="TRUE">541505.955476 198923.070639</pos>
</cornerPts>
<centerPt>
<pos Sync="TRUE">475214.622806 267560.569953</pos>
</centerPt>
<ptInPixel>
<PixOrientCd Sync="TRUE" value="001"/>
</ptInPixel>
</Georect>
</spatRepInfo>
<mdLang>
<languageCode Sync="TRUE" value="eng"/>
<countryCode Sync="TRUE" value="USA"/>
</mdLang>
<refSysInfo>
<RefSystem>
<refSysID>
<identCode Sync="TRUE" code="103453"/>
<idCodeSpace Sync="TRUE">ESRI</idCodeSpace>
<idVersion Sync="TRUE">10.1.1</idVersion>
</refSysID>
</RefSystem>
</refSysInfo>
<contInfo>
<ImgDesc>
<contentTyp>
<ContentTypCd Sync="TRUE" value="001"/>
</contentTyp>
<covDim>
<Band>
<dimDescrp Sync="TRUE">Band_1</dimDescrp>
<maxVal Sync="TRUE">255.000000</maxVal>
<minVal Sync="TRUE">0.000000</minVal>
<bitsPerVal Sync="TRUE">8</bitsPerVal>
<valUnit>
<UOM type="length"/>
</valUnit>
</Band>
<Band>
<dimDescrp Sync="TRUE">Band_2</dimDescrp>
<maxVal Sync="TRUE">255.000000</maxVal>
<minVal Sync="TRUE">0.000000</minVal>
<bitsPerVal Sync="TRUE">8</bitsPerVal>
<valUnit>
<UOM type="length"/>
</valUnit>
</Band>
<Band>
<dimDescrp Sync="TRUE">Band_3</dimDescrp>
<maxVal Sync="TRUE">255.000000</maxVal>
<minVal Sync="TRUE">0.000000</minVal>
<bitsPerVal Sync="TRUE">8</bitsPerVal>
<valUnit>
<UOM type="length"/>
</valUnit>
</Band>
</covDim>
</ImgDesc>
</contInfo>
<mdDateSt Sync="TRUE">20190324</mdDateSt>
</metadata>
