<?xml version="1.0" encoding="UTF-8" standalone="no"?>
<metadata xml:lang="en">
<Esri>
<CreaDate>20210502</CreaDate>
<CreaTime>14325900</CreaTime>
<ArcGISFormat>1.0</ArcGISFormat>
<ArcGISstyle>ISO 19139 Metadata Implementation Specification</ArcGISstyle>
<SyncOnce>FALSE</SyncOnce>
<DataProperties>
<lineage>
<Process Date="20200923" Name="" Time="135933" ToolSource="c:\program files (x86)\arcgis\desktop10.3\ArcToolbox\Toolboxes\Data Management Tools.tbx\CreateMosaicDataset" export="">CreateMosaicDataset "Database Connections\GIS-PUBLIC Imagery.sde" Pictometry_2020 "PROJCS['NAD_1983_HARN_WISCRS_Rock_County_Feet',GEOGCS['GCS_North_American_1983_HARN',DATUM['D_North_American_1983_HARN',SPHEROID['GRS_1980',6378137.0,298.257222101]],PRIMEM['Greenwich',0.0],UNIT['Degree',0.0174532925199433]],PROJECTION['Transverse_Mercator'],PARAMETER['False_Easting',480000.0],PARAMETER['False_Northing',0.022],PARAMETER['Central_Meridian',-89.07222222222222],PARAMETER['Scale_Factor',1.0000337311],PARAMETER['Latitude_Of_Origin',41.94444444444444],UNIT['Foot_US',0.3048006096012192]];-17969200 -48057800 3048.00609601219;-100000 10000;-100000 10000;3.28083333333333E-03;0.001;0.001;IsHighPrecision" 3 # NATURAL_COLOR_RGB "Red 630 690;Green 530 570;Blue 440 510"</Process>
<Process Date="20200923" Name="" Time="140259" ToolSource="c:\program files (x86)\arcgis\desktop10.3\ArcToolbox\Toolboxes\Data Management Tools.tbx\AddRastersToMosaicDataset" export="">AddRastersToMosaicDataset "Database Connections\GIS-PUBLIC Imagery.sde\imagery.DBO.Pictometry_2020" "Raster Dataset" '\\GIS-PUBLIC\ImageFiles\Pictometry_2020\Area Wide Mosaics\WIROCK20-SID-COMBINED-AW-3INCH' UPDATE_CELL_SIZES UPDATE_BOUNDARY NO_OVERVIEWS # 0 1500 # # SUBFOLDERS ALLOW_DUPLICATES NO_PYRAMIDS NO_STATISTICS NO_THUMBNAILS # NO_FORCE_SPATIAL_REFERENCE</Process>
<Process Date="20210502" Name="" Time="143327" ToolSource="c:\program files\arcgis\pro\Resources\ArcToolbox\toolboxes\Data Management Tools.tbx\CopyMultiple" export="">CopyMultiple "'K:\DEPARTMENTS\Planning\Jennifer\MapServices\gis-public Imagery Borlick.sde\imagery.DBO.Pictometry_2008_RockCounty' MosaicDataset;'K:\DEPARTMENTS\Planning\Jennifer\MapServices\gis-public Imagery Borlick.sde\imagery.DBO.Pictometry_2008_RockRiverAvon' MosaicDataset;'K:\DEPARTMENTS\Planning\Jennifer\MapServices\gis-public Imagery Borlick.sde\imagery.DBO.Pictometry_2011_RockCounty' MosaicDataset;'K:\DEPARTMENTS\Planning\Jennifer\MapServices\gis-public Imagery Borlick.sde\imagery.DBO.Pictometry_2015_4in' MosaicDataset;'K:\DEPARTMENTS\Planning\Jennifer\MapServices\gis-public Imagery Borlick.sde\imagery.DBO.Pictometry_2015_9in' MosaicDataset;'K:\DEPARTMENTS\Planning\Jennifer\MapServices\gis-public Imagery Borlick.sde\imagery.DBO.Pictometry_2015_All' MosaicDataset;'K:\DEPARTMENTS\Planning\Jennifer\MapServices\gis-public Imagery Borlick.sde\imagery.DBO.Pictometry_2019' MosaicDataset;'K:\DEPARTMENTS\Planning\Jennifer\MapServices\gis-public Imagery Borlick.sde\imagery.DBO.Pictometry_2020' MosaicDataset" "K:\DEPARTMENTS\Planning\Jennifer\MapServices\gis-sql Imagery ArcGIS.sde" Pictometry_2008_RockCounty;Pictometry_2008_RockRiverAvon;Pictometry_2011_RockCounty;Pictometry_2015_4in;Pictometry_2015_9in;Pictometry_2015_All;Pictometry_2019;Pictometry_2020 "imagery.DBO.Pictometry_2008_RockCounty MosaicDataset Imagery.ARCGIS.Pictometry_2008_RockCounty #;imagery.DBO.Pictometry_2008_RockRiverAvon MosaicDataset Imagery.ARCGIS.Pictometry_2008_RockRiverAvon #;imagery.DBO.Pictometry_2011_RockCounty MosaicDataset Imagery.ARCGIS.Pictometry_2011_RockCounty #;imagery.DBO.Pictometry_2015_4in MosaicDataset Imagery.ARCGIS.Pictometry_2015_4in #;imagery.DBO.Pictometry_2015_9in MosaicDataset Imagery.ARCGIS.Pictometry_2015_9in #;imagery.DBO.Pictometry_2015_All MosaicDataset Imagery.ARCGIS.Pictometry_2015_All #;imagery.DBO.Pictometry_2019 MosaicDataset Imagery.ARCGIS.Pictometry_2019 #;imagery.DBO.Pictometry_2020 MosaicDataset Imagery.ARCGIS.Pictometry_2020 #;imagery.DBO.Pictometry_2008_RockCounty LasDataset Imagery.ARCGIS.Pictometry_2008_RockCounty #;imagery.DBO.Pictometry_2008_RockRiverAvon LasDataset Imagery.ARCGIS.Pictometry_2008_RockRiverAvon #;imagery.DBO.Pictometry_2011_RockCounty LasDataset Imagery.ARCGIS.Pictometry_2011_RockCounty #;imagery.DBO.Pictometry_2015_4in LasDataset Imagery.ARCGIS.Pictometry_2015_4in #;imagery.DBO.Pictometry_2015_9in LasDataset Imagery.ARCGIS.Pictometry_2015_9in #;imagery.DBO.Pictometry_2015_All LasDataset Imagery.ARCGIS.Pictometry_2015_All #;imagery.DBO.Pictometry_2019 LasDataset Imagery.ARCGIS.Pictometry_2019 #;imagery.DBO.Pictometry_2020 LasDataset Imagery.ARCGIS.Pictometry_2020 #"</Process>
</lineage>
<itemProps>
<itemLocation>
<linkage Sync="TRUE">Server=gis-sql; Service=sde:sqlserver:gis-sql; Database=Imagery; User=ArcGIS; Version=dbo.DEFAULT</linkage>
<protocol Sync="TRUE">ArcSDE Connection</protocol>
</itemLocation>
<itemName Sync="TRUE">Imagery.ARCGIS.Pictometry_2020</itemName>
<nativeExtBox>
<westBL Sync="TRUE">397974.000000</westBL>
<eastBL Sync="TRUE">562818.500000</eastBL>
<southBL Sync="TRUE">198923.250000</southBL>
<northBL Sync="TRUE">336198.000000</northBL>
<exTypeCode Sync="TRUE">1</exTypeCode>
</nativeExtBox>
</itemProps>
<coordRef>
<type Sync="TRUE">Projected</type>
<geogcsn Sync="TRUE">GCS_North_American_1983_HARN</geogcsn>
<csUnits Sync="TRUE">Linear Unit: Foot_US (0.304801)</csUnits>
<projcsn Sync="TRUE">NAD_1983_HARN_WISCRS_Rock_County_Feet</projcsn>
<peXml Sync="TRUE">&lt;ProjectedCoordinateSystem xsi:type='typens:ProjectedCoordinateSystem' xmlns:xsi='http://www.w3.org/2001/XMLSchema-instance' xmlns:xs='http://www.w3.org/2001/XMLSchema' xmlns:typens='http://www.esri.com/schemas/ArcGIS/2.7.0'&gt;&lt;WKT&gt;PROJCS[&amp;quot;NAD_1983_HARN_WISCRS_Rock_County_Feet&amp;quot;,GEOGCS[&amp;quot;GCS_North_American_1983_HARN&amp;quot;,DATUM[&amp;quot;D_North_American_1983_HARN&amp;quot;,SPHEROID[&amp;quot;GRS_1980&amp;quot;,6378137.0,298.257222101]],PRIMEM[&amp;quot;Greenwich&amp;quot;,0.0],UNIT[&amp;quot;Degree&amp;quot;,0.0174532925199433]],PROJECTION[&amp;quot;Transverse_Mercator&amp;quot;],PARAMETER[&amp;quot;False_Easting&amp;quot;,480000.0],PARAMETER[&amp;quot;False_Northing&amp;quot;,0.022],PARAMETER[&amp;quot;Central_Meridian&amp;quot;,-89.07222222222222],PARAMETER[&amp;quot;Scale_Factor&amp;quot;,1.0000337311],PARAMETER[&amp;quot;Latitude_Of_Origin&amp;quot;,41.94444444444444],UNIT[&amp;quot;Foot_US&amp;quot;,0.3048006096012192],AUTHORITY[&amp;quot;EPSG&amp;quot;,8128]]&lt;/WKT&gt;&lt;XOrigin&gt;-17969200&lt;/XOrigin&gt;&lt;YOrigin&gt;-48057800&lt;/YOrigin&gt;&lt;XYScale&gt;137236666.75921705&lt;/XYScale&gt;&lt;ZOrigin&gt;-100000&lt;/ZOrigin&gt;&lt;ZScale&gt;10000&lt;/ZScale&gt;&lt;MOrigin&gt;-100000&lt;/MOrigin&gt;&lt;MScale&gt;10000&lt;/MScale&gt;&lt;XYTolerance&gt;0.0032808333333333331&lt;/XYTolerance&gt;&lt;ZTolerance&gt;0.001&lt;/ZTolerance&gt;&lt;MTolerance&gt;0.001&lt;/MTolerance&gt;&lt;HighPrecision&gt;true&lt;/HighPrecision&gt;&lt;WKID&gt;103453&lt;/WKID&gt;&lt;LatestWKID&gt;8128&lt;/LatestWKID&gt;&lt;/ProjectedCoordinateSystem&gt;</peXml>
</coordRef>
<RasterProperties>
<General>
<PixelDepth Sync="TRUE">8</PixelDepth>
<HasColormap Sync="TRUE">FALSE</HasColormap>
<CompressionType Sync="TRUE">None</CompressionType>
<NumBands Sync="TRUE">3</NumBands>
<Format Sync="TRUE">AMD</Format>
<HasPyramids Sync="TRUE">TRUE</HasPyramids>
<SourceType Sync="TRUE">continuous</SourceType>
<PixelType Sync="TRUE">unsigned integer</PixelType>
<NoDataValue Sync="TRUE"/>
</General>
<Properties>
<MaxImageHeight Sync="TRUE">4100</MaxImageHeight>
<MaxImageWidth Sync="TRUE">15000</MaxImageWidth>
<MaxRecordCount Sync="TRUE">1000</MaxRecordCount>
<MaxDownloadImageCount Sync="TRUE">20</MaxDownloadImageCount>
<MaxDownloadSizeLimit Sync="TRUE">2048</MaxDownloadSizeLimit>
<MaxMosaicImageCount Sync="TRUE">20</MaxMosaicImageCount>
<DefaultCompressionQuality Sync="TRUE">75</DefaultCompressionQuality>
<DefaultCompressionTolerance Sync="TRUE">0.01</DefaultCompressionTolerance>
<BlendWidth Sync="TRUE">10</BlendWidth>
<ViewpointSpacingX Sync="TRUE">600</ViewpointSpacingX>
<ViewpointSpacingY Sync="TRUE">300</ViewpointSpacingY>
<AllowedItemMetadata Sync="TRUE">Basic</AllowedItemMetadata>
<DefaultResamplingMethod Sync="TRUE">1</DefaultResamplingMethod>
<AllowedMosaicMethods Sync="TRUE">NorthWest,Center,LockRaster,ByAttribute,Nadir,Viewpoint,Seamline,None</AllowedMosaicMethods>
<AllowedCompressions Sync="TRUE">None,JPEG,LZ77,LERC</AllowedCompressions>
<AllowedMensurationCapabilities Sync="TRUE">None</AllowedMensurationCapabilities>
<AvailableMensurationCapabilities Sync="TRUE">None,Basic,Base-Top Height,Top-Top Shadow Height,Base-Top Shadow Height,3D</AvailableMensurationCapabilities>
<ClipToBoundary Sync="TRUE">-1</ClipToBoundary>
<FootprintMayContainNoData Sync="TRUE">-1</FootprintMayContainNoData>
<CellSizeTolerance Sync="TRUE">0.8</CellSizeTolerance>
<MinimumPixelContribution Sync="TRUE">1</MinimumPixelContribution>
<AvailableMosaicMethods Sync="TRUE">NorthWest,Center,LockRaster,ByAttribute,Nadir,Viewpoint,Seamline,None</AvailableMosaicMethods>
<AvailableCompressionMethods Sync="TRUE">None,JPEG,LZ77,LERC</AvailableCompressionMethods>
<AvailableItemMetadataLevels Sync="TRUE">None,Basic,Full</AvailableItemMetadataLevels>
<ConfigKeyword Sync="TRUE"/>
<BandDefinitionKeyword Sync="TRUE">NaturalColor</BandDefinitionKeyword>
<AllowedFields Sync="TRUE">Name,MinPS,MaxPS,LowPS,HighPS,Tag,GroupName,ProductName,CenterX,CenterY,ZOrder,Shape.STArea(),Shape.STLength()</AllowedFields>
<MaxCellSize Sync="TRUE">64800</MaxCellSize>
<LowCellSize Sync="TRUE">0.25</LowCellSize>
<HighCellSize Sync="TRUE">1296</HighCellSize>
<_docversion_ Sync="TRUE">9</_docversion_>
</Properties>
<Functions Sync="TRUE">
<Function Description="Performs on-the-fly mosaic on a raster catalog." Name="Mosaic Function"/>
</Functions>
</RasterProperties>
</DataProperties>
<SyncDate>20210528</SyncDate>
<SyncTime>10094700</SyncTime>
<ModDate>20210528</ModDate>
<ModTime>10101900</ModTime>
<scaleRange>
<minScale>500000</minScale>
<maxScale>5000</maxScale>
</scaleRange>
<ArcGISProfile>ISO19139</ArcGISProfile>
</Esri>
<mdHrLv>
<ScopeCd value="005"/>
</mdHrLv>
<dataIdInfo>
<idPurp>Orthoimagery acquired during the 2020 oblique flight. Spatial Accuracy not assumed.</idPurp>
<idAbs>&lt;DIV STYLE="text-align:Left;"&gt;&lt;DIV&gt;&lt;DIV&gt;&lt;P&gt;&lt;SPAN&gt;Orthoimagery acquired during the 2020 oblique flight. Spatial Accuracy not assumed.&lt;/SPAN&gt;&lt;/P&gt;&lt;/DIV&gt;&lt;/DIV&gt;&lt;/DIV&gt;</idAbs>
<idCredit>Rock County 9-1-1 Communications</idCredit>
<idCitation>
<resTitle>Pictometry_2020</resTitle>
<presForm>
<PresFormCd Sync="TRUE" value="005"/>
</presForm>
</idCitation>
<searchKeys>
<keyword>Pictometry</keyword>
<keyword>Orthophoto</keyword>
<keyword>2020</keyword>
</searchKeys>
<resConst>
<Consts>
<useLimit>&lt;DIV STYLE="text-align:Left;"&gt;&lt;DIV&gt;&lt;DIV&gt;&lt;P&gt;&lt;SPAN&gt;The maps and data provided are for informational and advisory purposes only. Rock County makes no warranty, expressed or implied; including warranties of merchantability and fitness for a particular purpose. Determining fitness of use for this data is the sole responsibility of the user. Rock County Land Information Office disclaims accuracy and advises that if specific and precise accuracy is required, it should be determined by certified maps, surveys, plats, or other official means. Rock County will not be responsible for any damages, which result from third party use of the data and maps herein, or for any use, which ignores this warning. The responsibility for data updates resides with the recipient, not the supplier.&lt;/SPAN&gt;&lt;/P&gt;&lt;/DIV&gt;&lt;/DIV&gt;&lt;/DIV&gt;</useLimit>
</Consts>
</resConst>
<envirDesc Sync="TRUE">Microsoft Windows 10 Version 10.0 (Build 18363) ; Esri ArcGIS 12.7.0.26828</envirDesc>
<dataLang>
<languageCode Sync="TRUE" value="eng"/>
<countryCode Sync="TRUE" value="USA"/>
</dataLang>
<spatRpType>
<SpatRepTypCd Sync="TRUE" value="002"/>
</spatRpType>
<dataExt>
<geoEle>
<GeoBndBox esriExtentType="search">
<exTypeCode Sync="TRUE">1</exTypeCode>
<westBL Sync="TRUE">-89.378164</westBL>
<eastBL Sync="TRUE">-88.763325</eastBL>
<northBL Sync="TRUE">42.866922</northBL>
<southBL Sync="TRUE">42.489867</southBL>
</GeoBndBox>
</geoEle>
</dataExt>
</dataIdInfo>
<mdLang>
<languageCode Sync="TRUE" value="eng"/>
<countryCode Sync="TRUE" value="USA"/>
</mdLang>
<refSysInfo>
<RefSystem>
<refSysID>
<identCode Sync="TRUE" code="8128"/>
<idCodeSpace Sync="TRUE">EPSG</idCodeSpace>
<idVersion Sync="TRUE">9.1(10.7.0)</idVersion>
</refSysID>
</RefSystem>
</refSysInfo>
<spatRepInfo>
<Georect>
<cellGeo>
<CellGeoCd Sync="TRUE" value="002"/>
</cellGeo>
<numDims Sync="TRUE">2</numDims>
<tranParaAv Sync="TRUE">1</tranParaAv>
<chkPtAv Sync="TRUE">0</chkPtAv>
<cornerPts>
<pos Sync="TRUE">397974.000000 198923.250000</pos>
</cornerPts>
<cornerPts>
<pos Sync="TRUE">397974.000000 336198.000000</pos>
</cornerPts>
<cornerPts>
<pos Sync="TRUE">562818.500000 336198.000000</pos>
</cornerPts>
<cornerPts>
<pos Sync="TRUE">562818.500000 198923.250000</pos>
</cornerPts>
<centerPt>
<pos Sync="TRUE">480396.250000 267560.625000</pos>
</centerPt>
<axisDimension type="002">
<dimSize Sync="TRUE">659378</dimSize>
<dimResol>
<value Sync="TRUE" uom="ftUS">0.250000</value>
</dimResol>
</axisDimension>
<axisDimension type="001">
<dimSize Sync="TRUE">549099</dimSize>
<dimResol>
<value Sync="TRUE" uom="ftUS">0.250000</value>
</dimResol>
</axisDimension>
<ptInPixel>
<PixOrientCd Sync="TRUE" value="001"/>
</ptInPixel>
</Georect>
</spatRepInfo>
<contInfo>
<ImgDesc>
<contentTyp>
<ContentTypCd Sync="TRUE" value="001"/>
</contentTyp>
<covDim>
<Band>
<dimDescrp Sync="TRUE">Red</dimDescrp>
<maxVal Sync="TRUE">255.000000</maxVal>
<minVal Sync="TRUE">0.000000</minVal>
<bitsPerVal Sync="TRUE">8</bitsPerVal>
<valUnit>
<UOM type="length"/>
</valUnit>
</Band>
<Band>
<dimDescrp Sync="TRUE">Green</dimDescrp>
<maxVal Sync="TRUE">255.000000</maxVal>
<minVal Sync="TRUE">0.000000</minVal>
<bitsPerVal Sync="TRUE">8</bitsPerVal>
<valUnit>
<UOM type="length"/>
</valUnit>
</Band>
<Band>
<dimDescrp Sync="TRUE">Blue</dimDescrp>
<maxVal Sync="TRUE">255.000000</maxVal>
<minVal Sync="TRUE">0.000000</minVal>
<bitsPerVal Sync="TRUE">8</bitsPerVal>
<valUnit>
<UOM type="length"/>
</valUnit>
</Band>
</covDim>
</ImgDesc>
</contInfo>
<mdDateSt Sync="TRUE">20210528</mdDateSt>
</metadata>
