{ "extent": { "ymin": 200628.48854168312, "xmin": 396171.33808149397, "ymax": 341156.42269407213, "xmax": 568867.84306394798, "spatialReference": { "latestWkid": 8128, "wkid": 103453 } }, "blockWidth": 2048, "mosaicOperator": "First", "serviceSourceType": "esriImageServiceSourceTypeMosaicDataset", "hasMultidimensions": false, "maxImageWidth": 15000, "maxRecordCount": 1000, "meanValues": [67.543143340106923], "hasColormap": false, "compressionType": "None", "defaultCompressionQuality": 75, "maxValues": [246], "hasHistograms": true, "datasetFormat": "AMD", "maxImageHeight": 4100, "sortField": "", "bandNames": ["Band_1"], "spatialReference": { "latestWkid": 8128, "wkid": 103453 }, "fullExtent": { "ymin": 200628.48854168312, "xmin": 396171.33808149397, "ymax": 341156.42269407213, "xmax": 568867.84306394798, "spatialReference": { "latestWkid": 8128, "wkid": 103453 } }, "bandCount": 1, "rasterFunctionInfos": [{ "help": "", "name": "None", "description": "" }], "supportsStatistics": true, "sortableFields": "MinPS,MaxPS,LowPS,HighPS,CenterX,CenterY,ZOrder,Shape.STArea(),Shape.STLength()", "minValues": [0], "allowRasterFunction": true, "allowComputeTiePoints": false, "serviceDataType": "esriImageServiceDataTypeGeneric", "supportsAdvancedQueries": true, "maxDownloadSizeLimit": 2048, "currentVersion": 12.1, "sortValue": null, "objectIdField": "OBJECTID", "blockHeight": 256, "initialExtent": { "ymin": 200628.48854168312, "xmin": 396171.33808149397, "ymax": 341156.42269407213, "xmax": 568867.84306394798, "spatialReference": { "latestWkid": 8128, "wkid": 103453 } }, "pixelSizeX": 3.2808333329999999, "pixelSizeY": 3.2808333329999999, "defaultMosaicMethod": "Northwest", "name": "Imagery/Scanned_1993_RockCounty", "allowedMosaicMethods": "NorthWest,Center,LockRaster,ByAttribute,Nadir,Viewpoint,Seamline,None", "maxDownloadImageCount": 20, "fields": [ { "domain": null, "name": "OBJECTID", "alias": "OBJECTID", "type": "esriFieldTypeOID" }, { "domain": null, "name": "Name", "length": 200, "alias": "Name", "type": "esriFieldTypeString" }, { "domain": null, "name": "MinPS", "alias": "MinPS", "type": "esriFieldTypeDouble" }, { "domain": null, "name": "MaxPS", "alias": "MaxPS", "type": "esriFieldTypeDouble" }, { "domain": null, "name": "LowPS", "alias": "LowPS", "type": "esriFieldTypeDouble" }, { "domain": null, "name": "HighPS", "alias": "HighPS", "type": "esriFieldTypeDouble" }, { "domain": { "splitPolicy": "esriSPTDefaultValue", "name": "MosaicCatalogItemCategoryDomain", "description": "Catalog item categories.", "type": "codedValue", "codedValues": [ { "code": 0, "name": "Unknown" }, { "code": 1, "name": "Primary" }, { "code": 2, "name": "Overview" }, { "code": 3, "name": "Unprocessed Overview" }, { "code": 4, "name": "Partial Overview" }, { "code": 253, "name": "Uploaded" }, { "code": 254, "name": "Incomplete" }, { "code": 255, "name": "Custom" } ], "mergePolicy": "esriMPTDefaultValue" }, "name": "Category", "alias": "Category", "type": "esriFieldTypeInteger" }, { "domain": null, "name": "Tag", "length": 100, "alias": "Tag", "type": "esriFieldTypeString" }, { "domain": null, "name": "GroupName", "length": 100, "alias": "GroupName", "type": "esriFieldTypeString" }, { "domain": null, "name": "ProductName", "length": 100, "alias": "ProductName", "type": "esriFieldTypeString" }, { "domain": null, "name": "CenterX", "alias": "CenterX", "type": "esriFieldTypeDouble" }, { "domain": null, "name": "CenterY", "alias": "CenterY", "type": "esriFieldTypeDouble" }, { "domain": null, "name": "ZOrder", "alias": "ZOrder", "type": "esriFieldTypeInteger" }, { "domain": null, "name": "Shape", "alias": "Shape", "type": "esriFieldTypeGeometry" }, { "domain": null, "name": "Shape.STArea()", "alias": "Shape.STArea()", "type": "esriFieldTypeDouble" }, { "domain": null, "name": "Shape.STLength()", "alias": "Shape.STLength()", "type": "esriFieldTypeDouble" } ], "allowAnalysis": true, "hasRasterAttributeTable": false, "useStandardizedQueries": true, "description": "
This 1993 imagery is scanned from 1 meter resolution, 7.5 minute quad satellite imagery and georeferenced using current imagery and geographic data. The spatial accuracy of the data has not been determined.<\/span><\/p> Projection: Wisconsin Coordinate Reference System: Rock County-Feet.<\/span><\/p><\/div><\/div><\/div>",
"pixelType": "U8",
"meanPixelSize": 0.99999999989839994,
"exportTilesAllowed": false,
"editFieldsInfo": null,
"rasterTypeInfos": [{
"help": "",
"name": "Raster Dataset",
"description": "Supports all ArcGIS Raster Datasets"
}],
"defaultResamplingMethod": "Bilinear",
"itemAccess": false,
"minScale": 0,
"serviceProperties": " This 1993 imagery is scanned from 1 meter resolution, 7.5 minute quad satellite imagery and georeferenced using current imagery and geographic data. The spatial accuracy of the data has not been determined.<\/span><\/p> Projection: Wisconsin Coordinate Reference System: Rock County-Feet.<\/span><\/p><\/div><\/div><\/div>",
"allowCopy": true,
"copyrightText": "County of Rock Land Information Office; Rock County, Wisconsin",
"mensurationCapabilities": "None",
"ownershipBasedAccessControlForRasters": null
}