View In:
ArcGIS JavaScript
ArcGIS Online Map Viewer
ArcGIS Earth
Service Description: This 1993 imagery is scanned from 1 meter resolution, 7.5 minute quad satellite imagery and georeferenced using current imagery and geographic data. The spatial accuracy of the data has not been determined.
Projection: Wisconsin Coordinate Reference System: Rock County-Feet.
Name: Imagery/Scanned_1993_RockCounty
Description: This 1993 imagery is scanned from 1 meter resolution, 7.5 minute quad satellite imagery and georeferenced using current imagery and geographic data. The spatial accuracy of the data has not been determined.
Projection: Wisconsin Coordinate Reference System: Rock County-Feet.
Single Fused Map Cache: false
Extent:
XMin: 396171.338081494
YMin: 200628.48854168312
XMax: 568867.843063948
YMax: 341156.4226940721
Spatial Reference: 103453
(8128)
Initial Extent:
XMin: 396171.338081494
YMin: 200628.48854168312
XMax: 568867.843063948
YMax: 341156.4226940721
Spatial Reference: 103453
(8128)
Full Extent:
XMin: 396171.338081494
YMin: 200628.48854168312
XMax: 568867.843063948
YMax: 341156.4226940721
Spatial Reference: 103453
(8128)
Pixel Size X: 3.280833333
Pixel Size Y: 3.280833333
Band Count: 1
Pixel Type: U8
RasterFunction Infos: {"rasterFunctionInfos": [{
"help": "",
"name": "None",
"description": ""
}]}
Mensuration Capabilities: None
Inspection Capabilities:
Has Histograms: true
Has Colormap: false
Has Multi Dimensions : false
Rendering Rule:
Min Scale: 0
Max Scale: 0
Resampling: false
Copyright Text: County of Rock Land Information Office; Rock County, Wisconsin
Service Data Type: esriImageServiceDataTypeGeneric
Min Values: 0
Max Values: 246
Mean Values: 67.543143340106923
Standard Deviation Values: 25.595580664033548
Object ID Field: OBJECTID
Fields:
-
OBJECTID
(
alias: OBJECTID, type: esriFieldTypeOID
)
-
Name
(
length: 200, alias: Name, type: esriFieldTypeString
)
-
MinPS
(
alias: MinPS, type: esriFieldTypeDouble
)
-
MaxPS
(
alias: MaxPS, type: esriFieldTypeDouble
)
-
LowPS
(
alias: LowPS, type: esriFieldTypeDouble
)
-
HighPS
(
alias: HighPS, type: esriFieldTypeDouble
)
-
Category
(
alias: Category, type: esriFieldTypeInteger
, Coded Values:
[0: Unknown]
, [1: Primary]
, [2: Overview]
, ...5 more...
)
-
Tag
(
length: 100, alias: Tag, type: esriFieldTypeString
)
-
GroupName
(
length: 100, alias: GroupName, type: esriFieldTypeString
)
-
ProductName
(
length: 100, alias: ProductName, type: esriFieldTypeString
)
-
CenterX
(
alias: CenterX, type: esriFieldTypeDouble
)
-
CenterY
(
alias: CenterY, type: esriFieldTypeDouble
)
-
ZOrder
(
alias: ZOrder, type: esriFieldTypeInteger
)
-
Shape
(
alias: Shape, type: esriFieldTypeGeometry
)
-
Shape.STArea()
(
alias: Shape.STArea(), type: esriFieldTypeDouble
)
-
Shape.STLength()
(
alias: Shape.STLength(), type: esriFieldTypeDouble
)
Default Mosaic Method: Northwest
Allowed Mosaic Methods: NorthWest,Center,LockRaster,ByAttribute,Nadir,Viewpoint,Seamline,None
SortField:
SortValue: N/A
Mosaic Operator: First
Default Compression Quality: 75
Default Resampling Method: Bilinear
Max Record Count: 1000
Max Image Height: 4100
Max Image Width: 15000
Max Download Image Count: 20
Max Mosaic Image Count: 20
Allow Raster Function: true
Allow Copy: true
Allow Analysis: true
Allow Compute TiePoints: false
Supports Statistics: true
Supports Advanced Queries: true
Use StandardizedQueries: true
Raster Type Infos:
Name: Raster Dataset
Description: Supports all ArcGIS Raster Datasets
Help:
Has Raster Attribute Table: false
Edit Fields Info: N/A
Ownership Based AccessControl For Rasters: N/A
Child Resources:
Info
Histograms
Statistics
Key Properties
Legend
Raster Function Infos
Supported Operations:
Export Image
Query
Identify
Compute Histograms
Compute Statistics Histograms
Get Samples
Compute Class Statistics
Query GPS Info
Find Images
Image to Map
Map to Image
Measure from Image
Image to Map Multiray
Query Boundary
Compute Pixel Location
Compute Angles
Validate
Project